BEGIN:VCALENDAR
VERSION:2.0
PRODID:-//Harmonic Waves Healing - ECPv6.0.6.2//NONSGML v1.0//EN
CALSCALE:GREGORIAN
METHOD:PUBLISH
X-ORIGINAL-URL:https://www.harmonicwaveshealing.com
X-WR-CALDESC:Events for Harmonic Waves Healing
REFRESH-INTERVAL;VALUE=DURATION:PT1H
X-Robots-Tag:noindex
X-PUBLISHED-TTL:PT1H
BEGIN:VTIMEZONE
TZID:America/Chicago
BEGIN:DAYLIGHT
TZOFFSETFROM:-0600
TZOFFSETTO:-0500
TZNAME:CDT
DTSTART:20260308T080000
END:DAYLIGHT
BEGIN:STANDARD
TZOFFSETFROM:-0500
TZOFFSETTO:-0600
TZNAME:CST
DTSTART:20261101T070000
END:STANDARD
END:VTIMEZONE
BEGIN:VEVENT
DTSTART;TZID=America/Chicago:20260419T140000
DTEND;TZID=America/Chicago:20260419T210000
DTSTAMP:20260419T220406
CREATED:20260403T223219Z
LAST-MODIFIED:20260403T223250Z
UID:20697-1776607200-1776632400@www.harmonicwaveshealing.com
SUMMARY:Reiki 1 Attunement & Energy Therapy Training - CE available
DESCRIPTION:✨ Unveil your radiant potential as you embark on a transformative journey with us. Step into a realm of intuitive healing and self-discovery with our Reiki 1 Training & Attunement!  \n🌸 Embrace the Healing Power of Reiki:\nReiki isn’t just a technique; it’s a gentle\, loving touch that nurtures the soul. Join us as we delve into the sacred art of Reiki\, a path towards inner harmony and holistic wellness. \n🌿 Discover the Magic of Reiki:\nIn this nurturing space\, we’ll unveil the secrets of Reiki\, an ancient Japanese healing art that resonates with the very essence of our being. Through gentle guidance and practical wisdom\, you’ll learn to tap into the universal life force energy\, promoting balance and vitality. \n🌺 A Journey of Self-Discovery:\nEmbark on a journey within as we explore the body’s energy centers\, awakening the dormant potential within. Through mindful practices and heartfelt connections\, you’ll cultivate a deep sense of self-awareness and inner peace. \n🌟 What Awaits You:\n– Introduction to Reiki: Immerse yourself in the loving embrace of Reiki energy\, learning hands-on techniques for healing and renewal.\n– Chakra Exploration: Dive into the mystical world of the Kundalini chakra system\, unlocking the sacred wisdom within.\n-Mindful Healing Practices: Cultivate a state of serene tranquility as you learn to access the healing power of Reiki.\n-Self-Healing Sessions: Experience the profound joy of self-care as you embark on a journey of personal transformation. \n💖 A Sanctuary of Healing:\nTogether\, let’s create a sacred space where hearts open\, spirits soar\, and healing abounds. Join us on this soulful adventure as we embrace the radiant light of Reiki and illuminate the path to wellness and wholeness. \n🌟About our Instructor:\nSimon Jay Cervania\, is the founder of the Harmonic Waves Healing Accredited Certification Program. Using vibrations as a therapeutic tool\, Jay travels and facilitates live sound journeys and gong washes. He is a multifaceted and talented artist\, a painter of visionary art\, and a musician with over 12 years of experience. Native to the Philippines\, Jay came to America to master a variety of healing arts such as: energy healing\, crystal therapy\, sound therapy\, aromatherapy and is a Reiki Master Teacher. His passion working with music and sound healing therapy have led him to work with numerous cultural and wellness centers\, yoga studios\, and holistic healing spaces throughout the Chicagoland area. A student of the Chicago Shaolin Temple\, he also leads qi gong/tai chi classes. He has lead various healing modality workshops\, mindful events\, conscious community events and various festivals. http://www.harmonicwaveshealing.com \n🌊Harmonic Waves healing is accredited through the Accreditation Council of Holistic Healers (ACHH) and World Metaphysical Association (WMA). Our Reiki Integration program is also accredited with The National Certification Board for Therapeutic Massage & Bodywork (NCBTMB) and we are officially an Approved Continuing Education credit provider.  \n☑️We offer 6 CE credit hours for this program.  \n📍LOCATION: Rising Lotus – 14911 S Bell Rd\, Homer Glen\, IL 60491 \n🎟️REGISTRATION🎟️\nReiki Level 1 ADMISSION\n– EARLY BIRD (until April 18) – $150\n– REGULAR ADMISSION (April 19) – $180\n***Bundle Package\n– Reiki Lvl 1 & 2 – $370 (a $455 value/ saving $85)\n– Reiki 1\,2\, 3 and Teacher – $700 (a $845 value/ saving $145) \nPre-registration is required through the link below or call 708-559-5644\n➡️https://clients.mindbodyonline.com/classic/ws?studioid=282650&stype=-8&sTG=25&sVT=3153&sView=day&sLoc=0
URL:https://www.harmonicwaveshealing.com/classes/reiki-1-attunement-energy-therapy-training-ce-available-3/
LOCATION:Rising Lotus Healing Center\, Rising Lotus Healing Center
ATTACH;FMTTYPE=image/jpeg:https://www.harmonicwaveshealing.com/wp-content/uploads/2026/04/20697_image_659087176_1422666292995711_6900242801948729136_n.jpg
END:VEVENT
BEGIN:VEVENT
DTSTART;TZID=America/Chicago:20260424T190000
DTEND;TZID=America/Chicago:20260424T210000
DTSTAMP:20260419T220406
CREATED:20260403T223225Z
LAST-MODIFIED:20260403T223250Z
UID:20699-1777057200-1777064400@www.harmonicwaveshealing.com
SUMMARY:Gong Wash Sound Healing Symphony
DESCRIPTION:Step into a realm of pure resonance and relaxation as we invite you to an unforgettable Gong Wash Sound Healing Symphony—a deeply immersive experience that transcends time and space. \nGuided by Jay\, the certification instructor for Harmonic Waves Healing\, you’ll be bathed in the soothing and transformative frequencies of gongs\, singing bowls\, handpan melodies\, chimes\, flutes\, and chanting instruments. Let these healing vibrations wash over you\, dissolving stagnant energy\, resetting your nervous system\, and awakening your inner stillness. \nWhat to Expect:\n– A full gong wash to clear emotional\, energetic\, and physical blockages\n– 3 Large Gongs: Blue Stargate\, Sun Gong & Atlantis Gong—vibrating with ancient healing frequencies\n– Reflection & Integration—ground yourself\, set intentions\, and embrace inner peace\n– Energetic Alignment—release tension\, reset your nervous system\, and feel rejuvenated \nExperience the Magic of Sound Healing\nLet the powerful resonance of the Sun Gong\, attuned to the OM frequency\, bathe you in life-giving vibrations.\nFeel the full-bodied sounds of the Atlantis Gong\, known for emotional balance and intuitive activation.\nImmerse in a sacred soundscape of healing frequencies designed to uplift\, cleanse\, and restore your well-being. Experience the vibrational shift and heart-centered alignment as we ground you with the Grotta Sonora Blue Stargate Gong\, specifically tuned to the Heart Chakra and Schumann Resonance\, the frequency of the Earth. \nWhat to Bring:\n– Yoga mat\, pillow\, blanket\, and eye mask for comfort\n– Water to stay hydrated\n– Comfortable clothing to fully relax into the sound journey \n🧘‍♀️ What to Bring:\n✔ Yoga mat\, pillow\, blanket\, eye mask for comfort\n✔ Water for hydration\n✔ Comfortable clothing to fully relax into the journey \n💫 About Your Guide\nSimon Jay Cervania is a visionary artist\, musician\, and master sound healer with over 15 years of experience. A Reiki Master Teacher and practitioner of multiple healing arts—including vibration therapy\, qi gong\, tai chi\, biofield tuning\, brain entrainment and tuning fork therapy—Jay has dedicated his life to bringing vibrational medicine to communities across the Midwest and beyond. His artistry and presence create an unforgettable container for transformation. \nRegistration:\nEarly Bird:\nSame Day: Admission: \nLocation:\nPeak Yoga and Wellness – 1 N Bothwell St\, Palatine\, IL 60067
URL:https://www.harmonicwaveshealing.com/classes/gong-wash-sound-healing-symphony-19/
LOCATION:Peak Yoga and Wellness\, Peak Yoga and Wellness
ATTACH;FMTTYPE=image/jpeg:https://www.harmonicwaveshealing.com/wp-content/uploads/2026/04/20699_image_657261159_1422624542999886_3696367406177324142_n-1.jpg
END:VEVENT
BEGIN:VEVENT
DTSTART;TZID=America/Chicago:20260425T180000
DTEND;TZID=America/Chicago:20260425T200000
DTSTAMP:20260419T220406
CREATED:20260403T223237Z
LAST-MODIFIED:20260403T223250Z
UID:20708-1777140000-1777147200@www.harmonicwaveshealing.com
SUMMARY:Gong Wash Sound Healing Symphony
DESCRIPTION:Immerse yourself in a deeply restorative and transformative sound journey designed to harmonize the mind\, body\, and spirit. The Gong Wash: Sound Healing Symphony is a full-body meditative experience where waves of vibration from gongs\, singing bowls\, chimes\, and other sacred instruments gently guide you into a state of deep relaxation and inner balance. As sound frequencies resonate through every cell\, stress and tension begin to dissolve\, allowing your nervous system to reset and your natural healing processes to activate. \nThis immersive experience supports emotional release\, mental clarity\, and energetic alignment\, helping you reconnect with a sense of peace and wholeness. The rich layers of sound create a powerful sonic environment that can shift brainwave states into alpha and theta frequencies\, often associated with meditation\, creativity\, and deep restorative rest. \nWhether you are new to sound healing or already on a wellness path\, this experience offers a nurturing space to release what no longer serves you and invite clarity\, intention\, and renewed vitality. \nBenefits of Gong Wash Sound Healing \n• Deep relaxation and stress relief\n• Supports nervous system regulation\n• May help reduce anxiety and mental overwhelm\n• Encourages emotional release and energetic clearing\n• Promotes improved sleep quality\n• Enhances meditation depth and mindfulness\n• Helps balance the body’s energy centers (chakras)\n• Supports mental clarity and focus\n• Encourages creativity and intuitive awareness\n• May help release physical tension in the body\n• Supports overall sense of well-being and inner harmony\n• Can assist with energetic alignment and vibrational balance \nWhat to Expect\nParticipants will typically lie down comfortably as the space fills with therapeutic vibrations and soothing tones. Allow yourself to simply receive the sounds and enter a peaceful state of presence. Many attendees report feeling lighter\, clearer\, and deeply refreshed after the experience. \n💫 About Your Guide\nSimon Jay Cervania is a visionary artist\, musician\, and master sound healer with over 15 years of experience. A Reiki Master Teacher and practitioner of multiple healing arts—including vibration therapy\, qi gong\, tai chi\, biofield tuning\, brain entrainment and tuning fork therapy—Jay has dedicated his life to bringing vibrational medicine to communities across the Midwest and beyond. His artistry and presence create an unforgettable container for transformation. \nCome as you are and allow the symphony of sound to guide you into deep relaxation\, renewal\, and inner harmony. \nReserve your space now and step into a new frequency of harmony. \nPlease Note\nCome dressed comfortably. Bring your yoga mat\, pillows\, bolsters\, an eye pillow—anything that will help you relax. \nREGISTRATION\nEarly Bird – $35\nSame Day Registration – $40 \nLocation: Tone It Studio – 12239 S Harlem Ave\, Palos Heights\, IL
URL:https://www.harmonicwaveshealing.com/classes/gong-wash-sound-healing-symphony-20/
LOCATION:Tone It Studio
ATTACH;FMTTYPE=image/jpeg:https://www.harmonicwaveshealing.com/wp-content/uploads/2026/04/20708_image_659063100_1426391099289897_531676525847123509_n.jpg
END:VEVENT
BEGIN:VEVENT
DTSTART;TZID=America/Chicago:20260426T183000
DTEND;TZID=America/Chicago:20260426T203000
DTSTAMP:20260419T220406
CREATED:20260311T123631Z
LAST-MODIFIED:20260403T223250Z
UID:20665-1777228200-1777235400@www.harmonicwaveshealing.com
SUMMARY:Sound Bath Serenity: Gong Wash Meditation
DESCRIPTION:Join us for an evening of tranquility and rejuvenation at the Japanese Cultural Center!  \nEmbark on a journey of serenity and self-discovery as we invite you to immerse yourself in the mesmerizing melodies of singing bowls\, soothing vibrations of gongs\, flute\, bells\, drums\, and handpan. This captivating sound bath will transport you through a spectrum of tones and frequencies\, revitalizing your mind\, body\, heart\, energy\, and spirit. \nPrepare to lay down\, fully relax\, and allow the therapeutic sounds to sweep you away on a profound journey of inner transformation. Immerse yourself in this 90-minute vibrational sonic experience\, and witness the cleansing\, clearing\, calming\, and invigorating effects it bestows upon your body and mind. Feel your energetic state transition into a deeper sense of calm\, clarity\, and contentment as the gentle waves of sound envelop you. Embrace the flow and delve into the depths of this transient and transformative encounter. \nWhat Awaits You:\nA full gong immersion to release emotional\, energetic & physical blockages\n– Three Sacred Gongs: The life-giving Sun Gong attuned to OM\, the balancing Atlantis Gong for emotional clarity\, and the heart-centered Blue Stargate Gong\, resonant with Earth’s frequency\n– Energetic alignment to reset your nervous system and expand awareness\nReflection & integration to anchor your experience and intentions\n– Allow these frequencies to awaken your inner stillness\, dissolve stagnant energies\, and open the door to profound healing. \nBenefits of Sound Bath Serenity: Gong Wash Meditation\n– shift brainwaves and states of consciousness\n– clear blockages in the energetic centers\n– release tension in the physical body\n– deep relaxation\n– enhanced meditation\n– release of Emotional Blockages\n– Increased Awareness\n– promote physical healing\n– bring harmony and balance to the sympathetic and parasympathetic nervous system. \nInstructor/ Facilitator:\nSimon Jay Cervania\, founder of the Harmonic Waves Healing Accredited Certification Program\, is an accomplished visionary artist\, musician\, and Reiki Master Teacher with over 15 years of experience in holistic health\, sound healing\, brainwave entrainment\, biofield energy therapy\, and trauma release. Born in the Philippines and now based in Chicago\, Jay is dedicated to creating transformative spaces of healing through sound\, ceremony\, and vibration. He shares his work internationally across cultural centers\, yoga studios\, and holistic wellness communities. \n✔️ What to Bring\nWear comfortable clothing and bring anything that will help you fully relax—yoga mat\, blanket\, pillow\, bolster\, or eye pillow. \n🎟 Registration\nEarly Bird: $35\nSame Day (if space permits): $40\nLimited capacity—reserve your spot today! \n📍 Location\nJapanese Cultural Center\n2940 N Lincoln Ave #2\, Chicago\, IL 60657
URL:https://www.harmonicwaveshealing.com/classes/sound-bath-serenity-gong-wash-meditation-9/
LOCATION:Japanese Culture Center – 日本文化会館\, Japanese Culture Center - 日本文化会館
ATTACH;FMTTYPE=image/jpeg:https://www.harmonicwaveshealing.com/wp-content/uploads/2026/03/20665_image_659639469_1427005452561795_1579143333280869394_n.jpg
END:VEVENT
END:VCALENDAR