BEGIN:VCALENDAR
VERSION:2.0
PRODID:-//Harmonic Waves Healing - ECPv6.0.6.2//NONSGML v1.0//EN
CALSCALE:GREGORIAN
METHOD:PUBLISH
X-WR-CALNAME:Harmonic Waves Healing
X-ORIGINAL-URL:https://www.harmonicwaveshealing.com
X-WR-CALDESC:Events for Harmonic Waves Healing
REFRESH-INTERVAL;VALUE=DURATION:PT1H
X-Robots-Tag:noindex
X-PUBLISHED-TTL:PT1H
BEGIN:VTIMEZONE
TZID:America/Chicago
BEGIN:DAYLIGHT
TZOFFSETFROM:-0600
TZOFFSETTO:-0500
TZNAME:CDT
DTSTART:20260308T080000
END:DAYLIGHT
BEGIN:STANDARD
TZOFFSETFROM:-0500
TZOFFSETTO:-0600
TZNAME:CST
DTSTART:20261101T070000
END:STANDARD
END:VTIMEZONE
BEGIN:VEVENT
DTSTART;TZID=America/Chicago:20260515T140000
DTEND;TZID=America/Chicago:20260517T210000
DTSTAMP:20260419T233808
CREATED:20260311T123626Z
LAST-MODIFIED:20260311T124134Z
UID:20663-1778853600-1779051600@www.harmonicwaveshealing.com
SUMMARY:Sound Healing Certification Vibration Therapy - CE available (FHC - Indiana)
DESCRIPTION:🌟 Join us for an On-Site Transformative Sound Healing Certification Program with a Live Teacher! 🌟 \nJoin us for a transformative three-day certification program that delves deep into the fascinating world of sound\, music\, vibration\, frequencies and their profound impact on the mind\, emotions\, energy\, and physical body. Discover the powerful applications of various instruments as tools for sound healing\, and unlock the potential to enhance consciousness\, productivity\, healing rates\, chakra alignment\, mental clarity\, relaxation\, and trauma release. Be the leading educated influence in your community\, family\, business or personal journey. \n✨ What to Expect: ✨ \n📚 Day 1(Part 1) – Principles of Vibrations \n– Explore the fundamentals of frequencies\, sound\, and cymatics. \n– Understand the magic of sympathetic resonance and the nuances between A440 and A432 chromatic tuning. \n– Learn the direct association and Frequencies of chakras\, notes\, colors in the electromagnetic spectrum \n🎵 Day 1(Part 2) – Learn to Use Musical Instruments as Tools for Sound Healing \n– Get hands-on with instruments like Drums\, Rattles\, and textural instruments. \n– Discover the differences and functions of different the variety of Singing Bowls and other instruments used in the field \n– Enjoy a HandPan demo and the power of Gongs \n🪶 Day 2(Part 1) – Tuning the Body\, Tuning the Mind \n– Exploring the brainwaves activities and frequencies with an EEG \n– Tapping into Brain entrainment with binaural beats\, and isochronic frequencies. \n– Experience the magic of the Vibro-Acoustic Therapy in a comprehensive demo. \n🙌 Day 2(Part 2) – Hands on Training \n– Assessment of Trauma in the chakra/ biofield (energetic body) \n– Engage in hands-on practice with singing bowls on the body \n– Experience and Facilitate a Gongwash vibration therapy \n🧘‍♀ Day 3(Part 1) – Energy Healing and Mindfulness \n– Dive into mindfulness practices and their impact on brainwaves and health. \n– Attune yourself to the practice of Energy Healing and how to enter the Theta State. \n– Creating a sound guided meditation flow \n⚡ Day 3(Part 2) – Energy Constructs and Proper Techniques in \n– Prep & aftercare using proper techniques with grounding energy energetic shields \n– Explore major hand placements for Chakra energy healing \n– Experience an introductory Tuning Fork demonstration. \nSchedule: \n🗓️ DAY 1 – FRI MAY 15 – 2:00PM – 9:00PM \n🗓️ DAY 2 – SAT MAY 16 – 2:00PM – 9:00PM \n🗓️ DAY 3 – SUN MAY 17 – 2:00PM – 9:00PM \n*Enjoy a refreshing 45-minute break during each class. \n🌊Harmonic Waves Healing is an accredited certification program with a focus on Holistic Health through combining Sound\, Music\, Vibration therapy and Qi energy field alignments. Our mission is to: 1) educate and bring awareness to the world about the impact of vibration frequencies to the mind\, body\, and our environment; 2) aid and assist in the alignment of the body’s energetic systems while healing emotional and mental traumas; 3) initiate participants to the practice of energy and vibration healing through attunements to bring harmony and balance to the mind\, body\, and energy centers and energy field. \n*CEs available for Massage Therapists Yoga Instructors \n🎶 Ready to harmonize your life and amplify your healing abilities? \n✨RSVP today and secure your spot on this healing journey. ✨ Take advantage of our early bird prices\, please register ahead to ensure your spot while it lasts. This is a limited intimate class.✨ \nAdmission: \nEarly Bird: $500 (till APR 24)\nRegistration: $575 (APR 25 – MAY 10) \nPre-registration is required through the link below \nLocation: Family Holistic Center – 7863 Broadway\, Merrillville\, IN 46410
URL:https://www.harmonicwaveshealing.com/classes/sound-healing-certification-vibration-therapy-ce-available-fhc-indiana/
LOCATION:Family Holistic Center
ATTACH;FMTTYPE=image/jpeg:https://www.harmonicwaveshealing.com/wp-content/uploads/2026/03/20663_image_647802445_1404812841447723_3807555846431339771_n.jpg
END:VEVENT
BEGIN:VEVENT
DTSTART;TZID=America/Chicago:20260531T183000
DTEND;TZID=America/Chicago:20260531T203000
DTSTAMP:20260419T233808
CREATED:20260311T123619Z
LAST-MODIFIED:20260311T124134Z
UID:20661-1780252200-1780259400@www.harmonicwaveshealing.com
SUMMARY:Sound Bath Serenity: Gong Wash Symphony
DESCRIPTION:Join us for an evening of tranquility and rejuvenation at the Japanese Cultural Center!  \nEmbark on a journey of serenity and self-discovery as we invite you to immerse yourself in the mesmerizing melodies of singing bowls\, soothing vibrations of gongs\, flute\, bells\, drums\, and handpan. This captivating sound bath will transport you through a spectrum of tones and frequencies\, revitalizing your mind\, body\, heart\, energy\, and spirit. \nPrepare to lay down\, fully relax\, and allow the therapeutic sounds to sweep you away on a profound journey of inner transformation. Immerse yourself in this 90-minute vibrational sonic experience\, and witness the cleansing\, clearing\, calming\, and invigorating effects it bestows upon your body and mind. Feel your energetic state transition into a deeper sense of calm\, clarity\, and contentment as the gentle waves of sound envelop you. Embrace the flow and delve into the depths of this transient and transformative encounter. \nWhat Awaits You:\nA full gong immersion to release emotional\, energetic & physical blockages\n– Three Sacred Gongs: The life-giving Sun Gong attuned to OM\, the balancing Atlantis Gong for emotional clarity\, and the heart-centered Blue Stargate Gong\, resonant with Earth’s frequency\n– Energetic alignment to reset your nervous system and expand awareness\nReflection & integration to anchor your experience and intentions\n– Allow these frequencies to awaken your inner stillness\, dissolve stagnant energies\, and open the door to profound healing. \nBenefits of Sound Bath Serenity: Gong Wash Meditation\n– shift brainwaves and states of consciousness\n– clear blockages in the energetic centers\n– release tension in the physical body\n– deep relaxation\n– enhanced meditation\n– release of Emotional Blockages\n– Increased Awareness\n– promote physical healing\n– bring harmony and balance to the sympathetic and parasympathetic nervous system. \nInstructor/ Facilitator:\nSimon Jay Cervania\, founder of the Harmonic Waves Healing Accredited Certification Program\, is an accomplished visionary artist\, musician\, and Reiki Master Teacher with over 15 years of experience in holistic health\, sound healing\, brainwave entrainment\, biofield energy therapy\, and trauma release. Born in the Philippines and now based in Chicago\, Jay is dedicated to creating transformative spaces of healing through sound\, ceremony\, and vibration. He shares his work internationally across cultural centers\, yoga studios\, and holistic wellness communities. \n✔️ What to Bring\nWear comfortable clothing and bring anything that will help you fully relax—yoga mat\, blanket\, pillow\, bolster\, or eye pillow. \n🎟 Registration\nEarly Bird: $35\nSame Day (if space permits): $40\nLimited capacity—reserve your spot today! \n📍 Location\nJapanese Cultural Center\n2940 N Lincoln Ave #2\, Chicago\, IL 60657
URL:https://www.harmonicwaveshealing.com/classes/sound-bath-serenity-gong-wash-symphony-4/
LOCATION:Japanese Culture Center – 日本文化会館\, Japanese Culture Center - 日本文化会館
ATTACH;FMTTYPE=image/jpeg:https://www.harmonicwaveshealing.com/wp-content/uploads/2026/03/20661_image_636179483_1390766389519035_8674852445407586059_n.jpg
END:VEVENT
END:VCALENDAR