BEGIN:VCALENDAR
VERSION:2.0
PRODID:-//Harmonic Waves Healing - ECPv6.0.6.2//NONSGML v1.0//EN
CALSCALE:GREGORIAN
METHOD:PUBLISH
X-WR-CALNAME:Harmonic Waves Healing
X-ORIGINAL-URL:https://www.harmonicwaveshealing.com
X-WR-CALDESC:Events for Harmonic Waves Healing
REFRESH-INTERVAL;VALUE=DURATION:PT1H
X-Robots-Tag:noindex
X-PUBLISHED-TTL:PT1H
BEGIN:VTIMEZONE
TZID:America/Chicago
BEGIN:DAYLIGHT
TZOFFSETFROM:-0600
TZOFFSETTO:-0500
TZNAME:CDT
DTSTART:20260308T080000
END:DAYLIGHT
BEGIN:STANDARD
TZOFFSETFROM:-0500
TZOFFSETTO:-0600
TZNAME:CST
DTSTART:20261101T070000
END:STANDARD
END:VTIMEZONE
BEGIN:VEVENT
DTSTART;TZID=America/Chicago:20260313T190000
DTEND;TZID=America/Chicago:20260313T210000
DTSTAMP:20260419T233808
CREATED:20260311T123304Z
LAST-MODIFIED:20260311T124133Z
UID:20650-1773428400-1773435600@www.harmonicwaveshealing.com
SUMMARY:Gong Wash Sound Healing Symphony
DESCRIPTION:Step into a realm of pure resonance and relaxation as we invite you to an unforgettable Gong Wash Sound Healing Symphony—a deeply immersive experience that transcends time and space. \nGuided by Jay\, the certification instructor for Harmonic Waves Healing\, you’ll be bathed in the soothing and transformative frequencies of gongs\, singing bowls\, handpan melodies\, chimes\, flutes\, and chanting instruments. Let these healing vibrations wash over you\, dissolving stagnant energy\, resetting your nervous system\, and awakening your inner stillness. \nWhat to Expect:\n– A full gong wash to clear emotional\, energetic\, and physical blockages\n– 3 Large Gongs: Blue Stargate\, Sun Gong & Atlantis Gong—vibrating with ancient healing frequencies\n– Reflection & Integration—ground yourself\, set intentions\, and embrace inner peace\n– Energetic Alignment—release tension\, reset your nervous system\, and feel rejuvenated \nExperience the Magic of Sound Healing\nLet the powerful resonance of the Sun Gong\, attuned to the OM frequency\, bathe you in life-giving vibrations.\nFeel the full-bodied sounds of the Atlantis Gong\, known for emotional balance and intuitive activation.\nImmerse in a sacred soundscape of healing frequencies designed to uplift\, cleanse\, and restore your well-being. Experience the vibrational shift and heart-centered alignment as we ground you with the Grotta Sonora Blue Stargate Gong\, specifically tuned to the Heart Chakra and Schumann Resonance\, the frequency of the Earth. \nWhat to Bring:\n– Yoga mat\, pillow\, blanket\, and eye mask for comfort\n– Water to stay hydrated\n– Comfortable clothing to fully relax into the sound journey \nYour Guide and Facilitator:\nSimon Jay Cervania is the Founder of the Harmonic Waves Healing Accredited Certification Program. Using vibration as a therapeutic tool\, Jay travels and facilitates live sound journeys\, group gong washes\, and private therapy sessions. He is a multifaceted artist\, visionary painter\, and musician with over 15 years of experience. Native to the Philippines\, Jay came to America to master a variety of healing arts including sound healing vibration therapy\, energy healing\, crystal therapy\, aromatherapy\, qi gong\, tai chi\, and is a Reiki Master Teacher. His passion for music and sound healing has led him to work with numerous cultural and wellness centers\, yoga studios\, and holistic healing spaces throughout the Chicagoland and Midwest area. \nThis meditation is a full-body vibrational reset. Whether you’re seeking stress relief\, emotional release\, or a profound healing experience\, this journey will leave you feeling lighter\, calmer\, and deeply rejuvenated. \nReserve your space now and step into a new frequency of harmony. \nPlease Note\nCome dressed comfortably. Bring your yoga mat\, pillows\, bolsters\, an eye pillow—anything that will help you relax. \nREGISTRATION\nEarly Bird – $35\nSame Day Registration – $40 \nLocation: Tone It Studio – 12239 S Harlem Ave\, Palos Heights\, IL
URL:https://www.harmonicwaveshealing.com/classes/gong-wash-sound-healing-symphony-17/
LOCATION:Tone It Studio
ATTACH;FMTTYPE=image/jpeg:https://www.harmonicwaveshealing.com/wp-content/uploads/2026/03/20650_image_646387886_1405530951375912_2139147603180223219_n.jpg
END:VEVENT
BEGIN:VEVENT
DTSTART;TZID=America/Chicago:20260314T180000
DTEND;TZID=America/Chicago:20260314T200000
DTSTAMP:20260419T233808
CREATED:20260311T123257Z
LAST-MODIFIED:20260311T124133Z
UID:20648-1773511200-1773518400@www.harmonicwaveshealing.com
SUMMARY:Gong Wash Sound Healing Symphony
DESCRIPTION:Embark on a transformative sonic adventure with Gong Wash Sound Healing Symphony \n Immerse yourself in an enchanting fusion of ancient and modern instruments\, with powerful gongs\,soothing flute\, resonating singing bowls\, ethereal hand pan\, and so much more. Join us for an evening of deep relaxation and inner exploration as the harmonious melodies and healing vibrations guide you towards a state of profound tranquility.Whether you’re seeking stress relief\, mindfulness\, or simply a serene escape from the daily hustle\, this unique experience promises to rejuvenate your mind\, body\, and soul. \nThis meticulously crafted sound meditation experience is designed to: \n– Shift your brainwaves and elevate your consciousness.\n– Dissolve energetic blockages within your being.\n– Release physical tension and stress from your body.\n– Restore harmony to your sympathetic and parasympathetic nervous system. \nPrepare to unwind and relax as you surrender to the transformative power of sound. During this 90-minute session\, allow the waves of sound to cleanse\, clear\, calm\, and rejuvenate your body and mind. Feel a profound shift towards inner peace\, clarity\, and contentment as the sonic vibrations wash over you. Dive into a state of flow and explore the profound depths of this transient and transformative experience. \nWhat Awaits You:\nA full gong immersion to release emotional\, energetic & physical blockages\n– Three Sacred Gongs: The life-giving Sun Gong attuned to OM\, the balancing Atlantis Gong for emotional clarity\, and the heart-centered Blue Stargate Gong\, resonant with Earth’s frequency\n– Energetic alignment to reset your nervous system and expand awareness\nReflection & integration to anchor your experience and intentions\n– Allow these frequencies to awaken your inner stillness\, dissolve stagnant energies\, and open the door to profound healing. \nFacilitator:\nSimon Jay Cervania\, is the Founder of the Harmonic Waves Healing Accredited Certification Program. Using vibrations as a therapeutic tool\, Jay facilitates live sound journey gong washes and teaches certification programs on sound and vibration therapy. He is a multifaceted and talented artist\, a painter of visionary art and a musician with over 15 years’ experience with a focus on holistic health\, brainwave entrainment\, biofield energy therapy\, energetic trauma release\, and is a Reiki Master Teacher. Originally from the Philippines\, Jay is currently based in the Chicago area\, where he leads classes\, workshops\, and mindful conscious community events that are focused on healing modalities\, sound and vibration therapy\, ceremonies\, and shamanic healing. Jay travels and works with various cultural and wellness centers\, yoga studios\, holistic healing spaces. \nPlease Note\nCome dressed comfortably. Bring your yoga mat\, pillows\, bolsters\, an eye pillow… anything that will help you relax. \n🎟️Registration🎟️\nEarly Bird: $35\nSame Day Admission $40 (if space permits) \n📍Location: Northshore Healing Centre – 6185 N Canfield Ave\, Chicago\, IL 60631
URL:https://www.harmonicwaveshealing.com/classes/gong-wash-sound-healing-symphony-16/
LOCATION:Northshore Healing Centre\, Northshore Healing Centre
ATTACH;FMTTYPE=image/jpeg:https://www.harmonicwaveshealing.com/wp-content/uploads/2026/03/20648_image_637397080_1391616812767326_6293011099223904794_n.jpg
END:VEVENT
BEGIN:VEVENT
DTSTART;TZID=America/Chicago:20260315T183000
DTEND;TZID=America/Chicago:20260315T203000
DTSTAMP:20260419T233808
CREATED:20260311T123252Z
LAST-MODIFIED:20260311T124133Z
UID:20646-1773599400-1773606600@www.harmonicwaveshealing.com
SUMMARY:Sound Bath Serenity: Gong Wash Meditation
DESCRIPTION:Join us for an evening of tranquility and rejuvenation at the Japanese Cultural Center!  \nEmbark on a journey of serenity and self-discovery as we invite you to immerse yourself in the mesmerizing melodies of singing bowls\, soothing vibrations of gongs\, flute\, bells\, drums\, and handpan. This captivating sound bath will transport you through a spectrum of tones and frequencies\, revitalizing your mind\, body\, heart\, energy\, and spirit. \nPrepare to lay down\, fully relax\, and allow the therapeutic sounds to sweep you away on a profound journey of inner transformation. Immerse yourself in this 90-minute vibrational sonic experience\, and witness the cleansing\, clearing\, calming\, and invigorating effects it bestows upon your body and mind. Feel your energetic state transition into a deeper sense of calm\, clarity\, and contentment as the gentle waves of sound envelop you. Embrace the flow and delve into the depths of this transient and transformative encounter. \nWhat Awaits You:\nA full gong immersion to release emotional\, energetic & physical blockages\n– Three Sacred Gongs: The life-giving Sun Gong attuned to OM\, the balancing Atlantis Gong for emotional clarity\, and the heart-centered Blue Stargate Gong\, resonant with Earth’s frequency\n– Energetic alignment to reset your nervous system and expand awareness\nReflection & integration to anchor your experience and intentions\n– Allow these frequencies to awaken your inner stillness\, dissolve stagnant energies\, and open the door to profound healing. \nBenefits of Sound Bath Serenity: Gong Wash Meditation\n– shift brainwaves and states of consciousness\n– clear blockages in the energetic centers\n– release tension in the physical body\n– deep relaxation\n– enhanced meditation\n– release of Emotional Blockages\n– Increased Awareness\n– promote physical healing\n– bring harmony and balance to the sympathetic and parasympathetic nervous system. \nInstructor/ Facilitator:\n🕉 Simon Jay Cervania is the Founder of the Harmonic Waves Healing Accredited Certification Program. Using vibrations as a therapeutic tool\, Jay facilitates live sound journey gong washes and teaches certification programs on sound and vibration therapy. He is a multifaceted and talented artist\, a painter of visionary art and a musician with over 15 years’ experience with a focus on holistic health\, brainwave entrainment\, biofield energy therapy\, energetic trauma release\, and is a Reiki Master Teacher. Originally from the Philippines\, Jay is currently based in the Chicago area\, where he leads classes\, workshops\, and mindful conscious community events that are focused on healing modalities\, sound and vibration therapy\, ceremonies\, and shamanic healing. Jay travels and works with various cultural and wellness centers\, yoga studios\, and holistic healing spaces. \nPlease Note:\nCome dressed comfortably. Bring your yoga mat\, pillows\, bolsters\, an eye pillow… anything that will help you relax. \nAdmission\nEarly Bird: $35\nSame Day: $40\n*limited space\, register now to reserve your spot \nLocation: The Japanese Culture Center\n2940 N Lincoln Ave #2\, Chicago\, IL 60657
URL:https://www.harmonicwaveshealing.com/classes/sound-bath-serenity-gong-wash-meditation-8/
LOCATION:Japanese Culture Center – 日本文化会館\, Japanese Culture Center - 日本文化会館
ATTACH;FMTTYPE=image/jpeg:https://www.harmonicwaveshealing.com/wp-content/uploads/2026/03/20646_image_635145167_1390761329519541_1853645016298136692_n.jpg
END:VEVENT
BEGIN:VEVENT
DTSTART;TZID=America/Chicago:20260321T180000
DTEND;TZID=America/Chicago:20260321T200000
DTSTAMP:20260419T233808
CREATED:20260311T123245Z
LAST-MODIFIED:20260311T124133Z
UID:20644-1774116000-1774123200@www.harmonicwaveshealing.com
SUMMARY:Gong Wash Sound Healing Symphony
DESCRIPTION:Step into a realm of pure resonance and relaxation as we invite you to an unforgettable Gong Wash Sound Healing Symphony – a deeply immersive experience that transcends time and space. \nGuided by Jay\, the certification instructor for Harmonic Waves Healing\, you’ll be bathed in the soothing and transformative frequencies of gongs\, singing bowls\, handpan melodies\, chimes\, flutes\, and chanting instruments. Let these healing vibrations wash over you\, dissolving stagnant energy\, resetting your nervous system\, and awakening your inner stillness. \nWhat to Expect:\n– A full gong wash to clear emotional\, energetic\, and physical blockages\n– 3 Large Gongs:Blue Stargate\, Sun Gong & Atlantis Gong – vibrating with ancient healing frequencies\n – Reflection & Integration—ground yourself\, set intentions\, and embrace inner peace\nEnergetic Alignment—release tension\, reset your nervous system\, and feel rejuvenated \n Experience the Magic of Sound Healing\n– Let the powerful resonance of the Sun Gong\, attuned to the OM frequency\, bathe you in life-giving vibrations.\n– Feel full-bodied sounds of the Atlantis Gong\, known for emotional balance and intuitive activation.\n– Immerse in a sacred soundscape of healing frequencies designed to uplift\, cleanse\, and restore your well-being. Experience the vibrational shift and heart centered alignment as we ground you with the Grotta Sonora Blue Stargate Gong\, specifically tuned to the heart Chakra and Schumann Resonance (the frequency of the Earth). \n What to Bring:\n– Yoga mat\, pillow\, blanket\, and eye mask for comfort\n– Water to stay hydrated\n– Comfortable clothing to fully relax into the sound journey \nYour Guide:\nSimon Jay Cervania\, is the Founder of Harmonic Waves Healing Accredited Certification Program. Using vibrations as a therapeutic tool\, Jay travels and facilitates live sound journeys\, group gong washes\, and private therapy sessions. He is a multifaceted and talented artist\, a painter of visionary art and a musician with over 15 years of experience. Native to the Philippines\, Jay came to America to master a variety of healing arts such as: Sound healing vibration therapy\, energy healing\, crystal therapy\, aromatherapy\, qi gong\, ta chi\, and is a Reiki Master Teacher. His passion working with music and sound healing therapy have led him to work with numerous cultural and wellness centers\, yoga studios and holistic healing spaces throughout the Chicagoland and Midwest area. \nExperience meditation and a full-body vibrational reset. Whether you’re seeking stress relief\, emotional release\, or a profound healing experience\, this journey will leave you feeling lighter\, calmer\, and deeply rejuvenated. \nReserve your space now and step into a new frequency of harmony! \nPlease Note\nCome dressed comfortably. Bring your yoga mat\, pillows\, bolsters\, an eye pillow… anything that will help you relax. \nREGISTRATION\nEARLY BIRD – $35\nSAME DAY REGISTRATION $40 \nLocation: yogaview Chicago – 2211 N Elston Ave #200\, Chicago\, IL 60614
URL:https://www.harmonicwaveshealing.com/classes/gong-wash-sound-healing-symphony-15/
LOCATION:Yogaview\, 1231 Green Bay Road\, Wilmette\, IL\, 60091\, US
ATTACH;FMTTYPE=image/jpeg:https://www.harmonicwaveshealing.com/wp-content/uploads/2026/03/20644_image_635986887_1391486326113708_1986259627475413200_n.jpg
END:VEVENT
BEGIN:VEVENT
DTSTART;TZID=America/Chicago:20260322T140000
DTEND;TZID=America/Chicago:20260322T210000
DTSTAMP:20260419T233808
CREATED:20250919T203403Z
LAST-MODIFIED:20250919T203403Z
UID:20542-1774188000-1774213200@www.harmonicwaveshealing.com
SUMMARY:Reiki 2 Attunement & Energy Therapy Training
DESCRIPTION:✨ EXPANDED REIKI TRAINING: LEVEL 2 ✨ \n💫Are you ready to elevate your Reiki practice to new heights? Join us for an immersive Reiki 2 training course where we delve into advanced techniques to harness and cultivate Qi\, create energy constructs\, and explore remote viewing. \n🌟 Course Highlights:\n1️⃣ Qi Cultivation with Qi Gong: Dive deeper into the ancient practice of Qi Gong to enhance your ability to channel and manipulate energy. \n2️⃣ Remote Viewing and Distant Reiki: Learn the art of remote viewing and extend your healing energy beyond physical boundaries. \n3️⃣ Identifying Compromised Chakras: Develop the skills to identify and address compromised Chakras\, fostering a more comprehensive approach to energy healing. \n4️⃣ Energy Constructs: Hone your techniques in energy construct with shielding\, grounding\, and cleansing for a well-rounded and powerful Reiki practice. \n🌈 About Reiki:\nReiki\, meaning “universal energy\,” is a healing system originating from Japan. It helps restore balance lost to daily stress\, promoting deep relaxation and addressing issues on emotional and physical levels. This training is perfect for those open to complementary and alternative medicine\, seeking to explore the positive effects of Reiki. \n💓Join us on this transformative journey as we tap into the universal energy that heals and nourishes. Embrace the power of Reiki and unlock new levels of well-being! \n🌟About our Instructor:\nSimon Jay Cervania\, is the founder of the Harmonic Waves Healing Accredited Certification Program. Using vibrations as a therapeutic tool\, Jay travels and facilitates live sound journeys and gong washes. He is a multifaceted and talented artist\, a painter of visionary art\, and a musician with over 10 years of experience. Native to the Philippines\, Jay came to America to master a variety of healing arts such as: energy healing\, crystal therapy\, sound therapy\, aromatherapy and is a Reiki Master Teacher. His passion working with music and sound healing therapy have led him to work with numerous cultural and wellness centers\, yoga studios\, and holistic healing spaces throughout the Chicagoland area. A student of the Chicago Shaolin Temple\, he also leads qi gong/tai chi classes. He has lead various healing modality workshops\, mindful events\, conscious community events and various festivals. http://www.harmonicwaveshealing.com \n🌊Harmonic Waves healing is accredited through the Accreditation Council of Holistic Healers (ACHH) and World Metaphysical Association (WMA). Our Reiki Integration program is also accredited with The National Certification Board for Therapeutic Massage & Bodywork (NCBTMB) and we are officially an Approved Continuing Education credit provider.  \n📍LOCATION: Oto Float – 1214 Washington Ave\, Wilmette\, IL 60091 \n🎟️REGISTRATION🎟️\nReiki Level 2 ADMISSION\n– EARLY BIRD (till Mar 1st) – $22\n– REGULAR ADMISSION (Mar 2 to Mar 22) – $275 \n– Reiki Lvl 2 & 3 Master and Teacher – $545 (a $665 value/ saving $120)\nReiki Master Class – https://www.tickettailor.com/events/harmonicwaveshealing/1831163 \nPre-registration is required through the link below\nhttps://www.tickettailor.com/events/harmonicwaveshealing/1831176
URL:https://www.harmonicwaveshealing.com/classes/reiki-2-attunement-energy-therapy-training-3/
LOCATION:Oto Float
ATTACH;FMTTYPE=image/jpeg:https://www.harmonicwaveshealing.com/wp-content/uploads/2025/09/20542_image_550121847_1269797224949286_9011653273319881467_n.jpg
END:VEVENT
BEGIN:VEVENT
DTSTART;TZID=America/Chicago:20260322T180000
DTEND;TZID=America/Chicago:20260322T200000
DTSTAMP:20260419T233808
CREATED:20260311T123239Z
LAST-MODIFIED:20260311T124132Z
UID:20641-1774202400-1774209600@www.harmonicwaveshealing.com
SUMMARY:Gong Wash Sound Healing Symphony
DESCRIPTION:A Transformative Sound Healing Experience\nStep into a sanctuary of sound and vibration\, where the deep\, resonant tones of gongs\, singing bowls\, handpans\, flutes\, chimes\, and chanting instruments guide you into a state of deep relaxation\, energetic balance\, and renewal.\nLed by Simon Jay Cervania\, founder of Harmonic Waves Healing\, this immersive experience is designed to clear stagnant energy\, restore harmony\, and awaken inner stillness. \nWhat You’ll Experience:\n– A Full Gong Wash – Release physical\, emotional\, and energetic tension as powerful sound waves cleanse and realign your energy.\n– Three Sacred Gongs:\nSun Gong – Tuned to the OM frequency\, radiating healing vibrations.\nAtlantis Gong – Facilitates deep emotional release and heightened intuition.\nBlue Stargate Gong – Tuned to the Heart Chakra and Schumann Resonance\, grounding you in the Earth’s natural frequency.\n– Guided Sound Journey – Immerse yourself in a symphony of healing frequencies\, calming melodies\, and harmonic overtones.\n– Reflection & Integration – A space to ground\, set intentions\, and embrace a renewed sense of clarity and peace. \nWhat to Bring:\nA yoga mat\, pillow\, blanket\, and eye mask for comfort\nWater to stay hydrated\nComfortable clothing to help you fully relax \nMeet Your Guide:\nSimon Jay Cervania is a renowned sound healer\, musician\, and visionary artist with over 15 years of experience in biofield therapy\, energetic trauma release\, and vibrational healing. As the founder of the Harmonic Waves Healing Accredited Certification Program\, Jay has shared his wisdom through workshops\, retreats\, and healing sessions across the Midwest. His passion for sound healing is rooted in a deep understanding of the profound effects that vibration and frequency have on the mind\, body\, and spirit. \nWhy Attend?\n– Release stress\, tension\, and emotional blockages\n– Reset and balance your nervous system\n– Experience deep relaxation\, clarity\, and rejuvenation\n– Elevate your frequency and align with your highest self\nThis is more than just a meditation\, it’s a full-body vibrational healing experience. Whether you seek relaxation\, emotional healing\, or a transformative journey\, this evening of sound and resonance will leave you feeling refreshed\, balanced\, and deeply renewed. \nSpaces are limited—reserve your spot today!\nAdmission:\nEarly Bird: $35\nSame Day Registration: $40\n👉\n📍Location: Rising Lotus Healing Cente \n👉\nLocation: Family Holistic Center – 7863 Broadway\, Merrillville\, IN 46410
URL:https://www.harmonicwaveshealing.com/classes/gong-wash-sound-healing-symphony-14/
LOCATION:Family Holistic Center
ATTACH;FMTTYPE=image/jpeg:https://www.harmonicwaveshealing.com/wp-content/uploads/2026/03/20641_image_643363859_1399208788674795_2481130153424490015_n.jpg
END:VEVENT
BEGIN:VEVENT
DTSTART;TZID=America/Chicago:20260327T140000
DTEND;TZID=America/Chicago:20260329T210000
DTSTAMP:20260419T233808
CREATED:20260311T124141Z
LAST-MODIFIED:20260311T124141Z
UID:20677-1774620000-1774818000@www.harmonicwaveshealing.com
SUMMARY:Sound Healing Certification Vibration Therapy - CE available (Homer Glen)
DESCRIPTION:Join us for an On-Site Transformative Sound Healing Certification Program with a Live Teacher!  \nJoin us for a transformative three-day certification program that delves deep into the fascinating world of sound\, music\, vibration\, frequencies and their profound impact on the mind\, emotions\, energy\, and physical body. Discover the powerful applications of various instruments as tools for sound healing\, and unlock the potential to enhance consciousness\, productivity\, healing rates\, chakra alignment\, mental clarity\, relaxation\, and trauma release. Be the leading educated influence in your community\, family\, business or personal journey. \n✨ What to Expect: ✨\nDay 1(Part 1) – Principles of Vibrations\n– Explore the fundamentals of frequencies\, sound\, and cymatics.\n– Understand the magic of sympathetic resonance and the nuances between A440 and A432 chromatic tuning.\n– Learn the direct association and Frequencies of chakras\, notes\, colors in the electromagnetic spectrum \n Day 1(Part 2) – Learn to Use Musical Instruments as Tools for Sound Healing\n– Get hands-on with instruments like Drums\, Rattles\, and textural instruments.\n– Discover the differences and functions of different the variety of Singing Bowls and other instruments used in the field\n– Enjoy a HandPan demo and the power of Gongs \n Day 2(Part 1) – Tuning the Body\, Tuning the Mind\n– Exploring the brainwaves activities and frequencies with an EEG\n– Tapping into Brain entrainment with binaural beats\, and isochronic frequencies.\n– Experience the magic of the Vibro-Acoustic Therapy in a comprehensive demo. \n Day 2(Part 2) – Hands on Training\n– Assessment of Trauma in the chakra/ biofield (energetic body)\n– Engage in hands-on practice with singing bowls on the body\n– Experience and Facilitate a Gongwash vibration therapy \nDay 3(Part 1) – Energy Healing and Mindfulness\n– Dive into mindfulness practices and their impact on brainwaves and health.\n– Attune yourself to the practice of Energy Healing and how to enter the Theta State.\n– Creating a sound guided meditation flow \nDay 3(Part 2) – Energy Constructs and Proper Techniques in\n– Prep & aftercare using proper techniques with grounding energy energetic shields\n– Explore major hand placements for Chakra energy healing\n– Experience an introductory Tuning Fork demonstration. \nSchedule:\n🗓️ DAY 1 – FRI MAR 27 – 2:00PM – 9:00PM\n🗓️ DAY 2 – SAT MAR 28 – 2:00PM – 9:00PM\n🗓️ DAY 3 – SUN MAR 29 – 2:00PM – 9:00PM \n*Enjoy a refreshing 45-minute break during each class. \n🌊Harmonic Waves Healing is an accredited certification program with a focus on Holistic Health through combining Sound\, Music\, Vibration therapy and Qi energy field alignments. Our mission is to: 1) educate and bring awareness to the world about the impact of vibration frequencies to the mind\, body\, and our environment; 2) aid and assist in the alignment of the body’s energetic systems while healing emotional and mental traumas; 3) initiate participants to the practice of energy and vibration healing through attunements to bring harmony and balance to the mind\, body\, and energy centers and energy field. \n*CEs available for Massage Therapists Yoga Instructors \n🎶 Ready to harmonize your life and amplify your healing abilities?  \n– RSVP today and secure your spot on this healing journey.Take advantage of our early bird prices\, please register ahead to ensure your spot while it lasts. This is a limited intimate class. \nAdmission:\nEarly Bird: $500 (till Mar 13)\nRegistration: $575 (Mar 14 – Mar27) \nPre-registration is required through the link below or call 708-559-5644\n👉https://clients.mindbodyonline.com/classic/ws?studioid=282650&stype=-8&sTG=25&sVT=3107&sView=day&sLoc=0 \nLocation: 14911 S Bell Rd\, Homer Glen\, IL 60491
URL:https://www.harmonicwaveshealing.com/classes/sound-healing-certification-vibration-therapy-ce-available-homer-glen-4/
LOCATION:Rising Lotus Healing Center\, Rising Lotus Healing Center
ATTACH;FMTTYPE=image/jpeg:https://www.harmonicwaveshealing.com/wp-content/uploads/2026/03/20677_image_621818254_1370180518244289_7624043374053811676_n.jpg
END:VEVENT
END:VCALENDAR