BEGIN:VCALENDAR
VERSION:2.0
PRODID:-//Harmonic Waves Healing - ECPv6.0.6.2//NONSGML v1.0//EN
CALSCALE:GREGORIAN
METHOD:PUBLISH
X-ORIGINAL-URL:https://www.harmonicwaveshealing.com
X-WR-CALDESC:Events for Harmonic Waves Healing
REFRESH-INTERVAL;VALUE=DURATION:PT1H
X-Robots-Tag:noindex
X-PUBLISHED-TTL:PT1H
BEGIN:VTIMEZONE
TZID:America/Chicago
BEGIN:DAYLIGHT
TZOFFSETFROM:-0600
TZOFFSETTO:-0500
TZNAME:CDT
DTSTART:20250309T080000
END:DAYLIGHT
BEGIN:STANDARD
TZOFFSETFROM:-0500
TZOFFSETTO:-0600
TZNAME:CST
DTSTART:20251102T070000
END:STANDARD
END:VTIMEZONE
BEGIN:VEVENT
DTSTART;TZID=America/Chicago:20251101T190000
DTEND;TZID=America/Chicago:20251101T210000
DTSTAMP:20260424T052256
CREATED:20250918T121724Z
LAST-MODIFIED:20250918T122604Z
UID:20493-1762023600-1762030800@www.harmonicwaveshealing.com
SUMMARY:Day of the Dead Gong Wash Ceremony: Spirit Channeling
DESCRIPTION:✨🎶 Embark on an enchanting evening of soothing melodies and transformative vibrations\, guided by the gifted psychic medium\, Christine Zenino. 🎶✨ \n🍁 As we near a time when the veil between worlds thins\, join us for a special event dedicated to deepening our connection with the spiritual realm. In celebration of the Day of the Dead\, we honor our ancestors and loved ones who have passed. You’re invited to bring a cherished photo or meaningful item to place on our Spirit Altar as we hold space for remembrance and reverence. 🍂 \n🔮 Christine Zenino\, a clairvoyant guide\, will lead us through a meditative sound journey\, followed by a unique demonstration of her spirit channeling abilities. Experience profound connection and insight as Christine facilitates a sacred communion with the spirit world. \n🧭 The evening will feature a mesmerizing sound journey\, weaving together the soothing tones of singing bowls\, flute\, bells\, drums\, handpan\, and gongs\, culminating in a live gong wash. Let the immersive soundscape guide you to a place of tranquility\, inner balance\, and peace. This 90-minute sonic experience is designed to cleanse\, realign\, and refresh your energetic body\, allowing for deep healing and connection. \nOur Facilitators:\n🌊 Simon Jay Cervania\, founder of the Harmonic Waves Healing Accredited Certification Program\, brings over 15 years of expertise in sound healing\, brainwave entrainment\, biofield therapy\, and energetic trauma release. As a visionary artist\, musician\, and Reiki Master Teacher\, Jay is dedicated to holistic health and healing through sound and vibration. \n🔮 Christine Zenino is a renowned Psychic Medium\, Akashic Record Reader\, and Meditation Instructor. With a passion for delivering messages from loved ones\, angels\, and guides\, Christine helps people connect with their life purpose. Trained at the Arthur Findlay Spiritualist College in England\, she has worked with international mediums and participated in paranormal investigations\, including her work at Joliet Prison. \n⚡ What to Bring: Come dressed comfortably. Bring a yoga mat\, pillows\, bolsters\, or an eye pillow—whatever will help you relax fully. While not everyone may receive a personal reading\, you are welcome to connect with Christine for future bookings if you feel drawn to her work. \n⚡Please Note⚡\nCome dressed comfortably. Bring your yoga mat\, pillows\, bolsters\, an eye pillow… anything that will help you relax. Not everyone will be guaranteed a reading\, but if you resonate with Christine\, you are welcome to connect with her for bookings. \n✔REGISTRATION✔\nEARLY BIRD – $40\nSAME DAY REGISTRATION (If space permits) – $45 \n*very limited space\, register now to reserve your spot \nLocation: Rising Lotus Healing Center – Yoga Studio – 14911 S Bell Rd\, Homer Glen\, IL 60491
URL:https://www.harmonicwaveshealing.com/classes/day-of-the-dead-gong-wash-ceremony-spirit-channeling/
LOCATION:Rising Lotus Healing Center\, Rising Lotus Healing Center
ATTACH;FMTTYPE=image/jpeg:https://www.harmonicwaveshealing.com/wp-content/uploads/2025/09/20493_image_545272686_1259455115983497_1376506429908297412_n-1.jpg
END:VEVENT
BEGIN:VEVENT
DTSTART;TZID=America/Chicago:20251102T170000
DTEND;TZID=America/Chicago:20251102T210000
DTSTAMP:20260424T052256
CREATED:20250918T122528Z
LAST-MODIFIED:20250918T122604Z
UID:20501-1762102800-1762117200@www.harmonicwaveshealing.com
SUMMARY:Gong Floats & Harmony: Sound Healing Symphony (2 Sessions/ Exclusive Pass)
DESCRIPTION:Step into a powerful\, one-of-a-kind healing immersion where water\, sound\, and vibration merge for deep inner harmony and full-body rejuvenation. \nImagine floating effortlessly in warm\, weightless water as healing sound waves ripple through your body—each vibration melting tension\, releasing stress\, and reawakening your inner calm. \nWelcome to Float & Harmony: Live Sound Healing Symphony\, a one-of-a-kind immersive experience where the power of sound\, water\, and vibration unite to create deep states of relaxation\, balance\, and energetic renewal. \nDuring this transformative event\, you’ll be bathed in a live sound journey featuring instruments like singing bowls\, gongs\, chimes\, and more—played in real-time to create a sonic landscape of healing frequencies. These vibrations are carried through the space—and for two lucky participants—directly into the water of our float pods through powerful transducers\, allowing sound to resonate through the entire body. \n🌊 TWO EXCLUSIVE FLOAT POD PASSES AVAILABLE\nWe’re offering only 2 limited spots to experience this Sound Bath inside the float pods—with powerful vibrations delivered directly into the water through transducers\, a special sound technology that allows the frequencies to move through your body as you float.\n✨ This full-body resonance creates a deeply restorative and meditative state. \n🧘‍♀️ GENERAL ADMISSION: SOUND BATH EXPERIENCE\nAll other attendees are invited to experience the live Sound Bath in our peaceful relaxation space\, surrounded by ambient lighting\, soothing tones\, and high-vibrational energy.\n💸 BONUS: All general admission attendees will receive an exclusive discount on their next float session at OTO Float! \n🚨 FIRST COME\, FIRST SERVE — VERY LIMITED PASSES!\n• Only 2 Float Pod Tickets available\n• Limited capacity for in-person Sound Bath experience\n• Secure your spot early—this will sell out! \n💧 BENEFITS OF FLOATING:\n• Reduces stress\, anxiety & pain\n• Relieves joint pressure & inflammation\n• Improves sleep\, focus & recovery\n• Promotes deep relaxation & inner clarity\n• Enhances meditation & nervous system balance \n🔊 BENEFITS OF SOUND HEALING:\n• Clears energetic blocks\n• Shifts brainwave states\n• Activates healing through vibration\n• Deepens emotional release\n• Promotes peace and mental stillness \n🧭Your Guide and Facilitator:\nSimon Jay Cervania\, is the Founder of Harmonic Waves Healing Accredited Certification Program. Using vibrations as a therapeutic tool\, Jay travels and facilitates live sound journeys\, group gong washes\, and private therapy sessions. He is a multifaceted and talented artist\, a painter of visionary art and a musician with over 15 years of experience. Native to the Philippines\, Jay came to America to master a variety of healing arts such as: Sound healing vibration therapy\, energy healing\, crystal therapy\, aromatherapy\, qi gong\, ta chi\, and is a Reiki Master Teacher. His passion working with music and sound healing therapy have led him to work with numerous cultural and wellness centers\, yoga studios and holistic healing spaces throughout the Chicagoland and Midwest area. \nDon’t miss this opportunity to experience the next level of sound and float therapy. Come float into harmony. \n🎟️ Tickets & Reservations:\n– EXCLUSIVE FLOAT POD PASSES: $130 \n– UPGRADED INFRARED CUSIONED MAT: $45 \n– REGULAR PASS:Early Bird: $35 / Same Day: $40 \n(Attendees with regular pass gets $10 off their next float) \n📍Location:\nOto Float – 1214 Washington Ave\, Wilmette\, IL 60091
URL:https://www.harmonicwaveshealing.com/classes/gong-floats-harmony-sound-healing-symphony-2-sessions-exclusive-pass/
LOCATION:Oto Float
ATTACH;FMTTYPE=image/jpeg:https://www.harmonicwaveshealing.com/wp-content/uploads/2025/09/20501_image_522446237_1253602383235437_7995631854140569369_n.jpg
END:VEVENT
BEGIN:VEVENT
DTSTART;TZID=America/Chicago:20251114T190000
DTEND;TZID=America/Chicago:20251114T210000
DTSTAMP:20260424T052256
CREATED:20250918T122534Z
LAST-MODIFIED:20250918T122604Z
UID:20503-1763146800-1763154000@www.harmonicwaveshealing.com
SUMMARY:Gong Wash Sound Healing Symphony
DESCRIPTION:✨ Step beyond the ordinary and into a realm of resonance\, renewal\, and radiant stillness. ✨ \nJoin us for an unforgettable Gong Wash Sound Healing Symphony\, a deeply immersive soundscape designed to transport you beyond time and space. Guided by Simon Jay Cervania\, founder of Harmonic Waves Healing\, you will be enveloped in the rich tapestry of gongs\, singing bowls\, flutes\, handpan melodies\, chimes\, and chanting instruments. \n🌌 What Awaits You: \n🌊 A full gong immersion to release emotional\, energetic & physical blockages \n🌞 Three Sacred Gongs: The life-giving Sun Gong attuned to OM\, the balancing Atlantis Gong for emotional clarity\, and the heart-centered Blue Stargate Gong\, resonant with Earth’s frequency \n🔮 Energetic alignment to reset your nervous system and expand awareness \n🧘 Reflection & integration to anchor your experience and intentions \n🌟 Allow these frequencies to awaken your inner stillness\, dissolve stagnant energies\, and open the door to profound healing. \n💖 This is not just a meditation—it’s a vibrational rebirth. \n🔔 Reserve Your Spot\nEarly Bird: $35 | Same Day: $40 \nStep into harmony. Step into resonance. Step into yourself. 🌀 \n📍 Location: HealthFit – 1800 E Northwest Hwy Suite 1\, Arlington Heights\, IL 60004
URL:https://www.harmonicwaveshealing.com/classes/gong-wash-sound-healing-symphony-11/
LOCATION:HealthFit
ATTACH;FMTTYPE=image/jpeg:https://www.harmonicwaveshealing.com/wp-content/uploads/2025/09/20503_image_541528920_1253443889917953_430412524861117847_n.jpg
END:VEVENT
BEGIN:VEVENT
DTSTART;TZID=America/Chicago:20251115T180000
DTEND;TZID=America/Chicago:20251115T200000
DTSTAMP:20260424T052256
CREATED:20250918T122541Z
LAST-MODIFIED:20250918T122604Z
UID:20505-1763229600-1763236800@www.harmonicwaveshealing.com
SUMMARY:Gong Wash Sound Healing Symphony
DESCRIPTION:✨ Enter the Frequency of Healing ✨ \nAllow yourself to be carried into a sanctuary of sound with Gong Wash Sound Healing Symphony—an immersive vibrational journey designed to harmonize body\, mind\, and spirit. 🌙 \nGuided by Simon Jay Cervania\, founder/ instructor of the Harmonic Waves Healing Certification Program\, you’ll be enveloped in a symphony of sacred instruments: gongs\, singing bowls\, handpan\, chimes\, flutes\, and healing chants. Each vibration is crafted to dissolve stagnant energy\, reset the nervous system\, and awaken deep inner stillness. \n🌟 Highlights of the Journey 🌟 \n3 Powerful Gongs: Blue Stargate (Heart Chakra & Earth frequency)\, Sun Gong (OM frequency)\, and Atlantis Gong (emotional balance & intuitive awakening). \nEnergetic Cleansing: Clear blockages on emotional\, physical\, and energetic levels. \nDeep Integration: Reflect\, ground\, and set new intentions in a state of balance. \nSacred Soundscape: Bathe in harmonic frequencies that rejuvenate and restore. \n🎶 The Power of the Gongs 🎶 \nSun Gong – Radiating cosmic OM vibrations that renew life force energy. \nAtlantis Gong – Unlocking emotional release and intuitive wisdom. \nBlue Stargate Gong – Tuning your heart to the Schumann Resonance\, the Earth’s natural frequency. \n🧘‍♀️ What to Bring: \n✔ Yoga mat\, pillow\, blanket\, eye mask for comfort \n✔ Water for hydration \n✔ Comfortable clothing to fully relax into the journey \n💫 About Your Guide \nSimon Jay Cervania is a visionary artist\, musician\, and master sound healer with over 15 years of experience. A Reiki Master Teacher and practitioner of multiple healing arts—including vibration therapy\, qi gong\, tai chi\, biofield tuning\, brain entrainment and tuning fork therapy—Jay has dedicated his life to bringing vibrational medicine to communities across the Midwest and beyond. His artistry and presence create an unforgettable container for transformation. \n💖 This is more than meditation—it’s a vibrational reset. Whether you’re seeking emotional release\, nervous system restoration\, or simply a deep state of peace\, this sound immersion will leave you lighter\, aligned\, and renewed. \n🔔 Reserve your space now and step into a new frequency of harmony! \nRegistration:\nEarly Bird: $35\nSame Day: Admission: $40 \nLocation: yogaview Chicago – 2211 N Elston Ave #200\, Chicago\, IL 60614
URL:https://www.harmonicwaveshealing.com/classes/gong-wash-sound-healing-symphony-12/
LOCATION:Yogaview\, 1231 Green Bay Road\, Wilmette\, IL\, 60091\, US
ATTACH;FMTTYPE=image/jpeg:https://www.harmonicwaveshealing.com/wp-content/uploads/2025/09/20505_image_543441305_1259448235984185_4502839188742969078_n.jpg
END:VEVENT
BEGIN:VEVENT
DTSTART;TZID=America/Chicago:20251116T140000
DTEND;TZID=America/Chicago:20251116T210000
DTSTAMP:20260424T052256
CREATED:20250918T122548Z
LAST-MODIFIED:20250919T203350Z
UID:20507-1763301600-1763326800@www.harmonicwaveshealing.com
SUMMARY:Reiki 2 Attunement & Energy Therapy Training
DESCRIPTION:✨ EXPANDED REIKI TRAINING: LEVEL 2 ✨ \n💫Are you ready to elevate your Reiki practice to new heights? Join us for an immersive Reiki 2 training course where we delve into advanced techniques to harness and cultivate Qi\, create energy constructs\, and explore remote viewing. \n🌟 Course Highlights:\n1️⃣ Qi Cultivation with Qi Gong: Dive deeper into the ancient practice of Qi Gong to enhance your ability to channel and manipulate energy. \n2️⃣ Remote Viewing and Distant Reiki: Learn the art of remote viewing and extend your healing energy beyond physical boundaries. \n3️⃣ Identifying Compromised Chakras: Develop the skills to identify and address compromised Chakras\, fostering a more comprehensive approach to energy healing. \n4️⃣ Energy Constructs: Hone your techniques in energy construct with shielding\, grounding\, and cleansing for a well-rounded and powerful Reiki practice. \n🌈 About Reiki:\nReiki\, meaning “universal energy\,” is a healing system originating from Japan. It helps restore balance lost to daily stress\, promoting deep relaxation and addressing issues on emotional and physical levels. This training is perfect for those open to complementary and alternative medicine\, seeking to explore the positive effects of Reiki. \n💓Join us on this transformative journey as we tap into the universal energy that heals and nourishes. Embrace the power of Reiki and unlock new levels of well-being! \n🌟About our Instructor:\nSimon Jay Cervania\, is the founder of the Harmonic Waves Healing Accredited Certification Program. Using vibrations as a therapeutic tool\, Jay travels and facilitates live sound journeys and gong washes. He is a multifaceted and talented artist\, a painter of visionary art\, and a musician with over 10 years of experience. Native to the Philippines\, Jay came to America to master a variety of healing arts such as: energy healing\, crystal therapy\, sound therapy\, aromatherapy and is a Reiki Master Teacher. His passion working with music and sound healing therapy have led him to work with numerous cultural and wellness centers\, yoga studios\, and holistic healing spaces throughout the Chicagoland area. A student of the Chicago Shaolin Temple\, he also leads qi gong/tai chi classes. He has lead various healing modality workshops\, mindful events\, conscious community events and various festivals. http://www.harmonicwaveshealing.com \n🌊Harmonic Waves healing is accredited through the Accreditation Council of Holistic Healers (ACHH) and World Metaphysical Association (WMA). Our Reiki Integration program is also accredited with The National Certification Board for Therapeutic Massage & Bodywork (NCBTMB) and we are officially an Approved Continuing Education credit provider.  \n📍LOCATION: Oto Float – 1214 Washington Ave\, Wilmette\, IL 60091 \n🎟️REGISTRATION🎟️\nReiki Level 2 ADMISSION\n– EARLY BIRD (till Oct 31st) – $22\n– REGULAR ADMISSION (Nov 1 to Nov 16) – $275 \n– Reiki Lvl 2 & 3 Master and Teacher – $545 (a $665 value/ saving $120)\nReiki Master Class – https://www.tickettailor.com/events/harmonicwaveshealing/1831163 \nPre-registration is required through the link below\nhttps://buytickets.at/harmonicwaveshealing/1831147
URL:https://www.harmonicwaveshealing.com/classes/reiki-2-attunement-energy-therapy-training-2/
LOCATION:Oto Float
ATTACH;FMTTYPE=image/jpeg:https://www.harmonicwaveshealing.com/wp-content/uploads/2025/09/20507_image_550082083_1269796844949324_7428277539923860394_n.jpg
END:VEVENT
BEGIN:VEVENT
DTSTART;TZID=America/Chicago:20251121T140000
DTEND;TZID=America/Chicago:20251123T210000
DTSTAMP:20260424T052256
CREATED:20250918T122554Z
LAST-MODIFIED:20250918T122604Z
UID:20509-1763733600-1763931600@www.harmonicwaveshealing.com
SUMMARY:Sound Healing Certification Vibration Therapy - CE available (Wilmette\, IL))
DESCRIPTION:🌟 Join us for an On-Site Transformative Sound Healing Certification Program with a Live Teacher! 🌟 \nJoin us for a transformative three-day certification program that delves deep into the fascinating world of sound\, music\, vibration\, frequencies and their profound impact on the mind\, emotions\, energy\, and physical body. Discover the powerful applications of various instruments as tools for sound healing\, and unlock the potential to enhance consciousness\, productivity\, healing rates\, chakra alignment\, mental clarity\, relaxation\, and trauma release. Be the leading educated influence in your community\, family\, business or personal journey. \n✨ What to Expect: ✨\n📚 Day 1(Part 1) – Principles of Vibrations\n– Explore the fundamentals of frequencies\, sound\, and cymatics.\n– Understand the magic of sympathetic resonance and the nuances between A440 and A432 chromatic tuning.\n– Learn the direct association and Frequencies of chakras\, notes\, colors in the electromagnetic spectrum\n🎵 Day 1(Part 2) – Learn to Use Musical Instruments as Tools for Sound Healing\n– Get hands-on with instruments like Drums\, Rattles\, and textural instruments.\n– Discover the differences and functions of different the variety of Singing Bowls and other instruments used in the field\n– Enjoy a HandPan demo and the power of Gongs\n🪶 Day 2(Part 1) – Tuning the Body\, Tuning the Mind\n– Exploring the brainwaves activities and frequencies with an EEG\n– Tapping into Brain entrainment with binaural beats\, and isochronic frequencies.\n– Experience the magic of the Vibro-Acoustic Therapy in a comprehensive demo.\n🙌 Day 2(Part 2) – Hands on Training\n– Assessment of Trauma in the chakra/ biofield (energetic body)\n– Engage in hands-on practice with singing bowls on the body\n– Experience and Facilitate a Gongwash vibration therapy\n🧘‍♀ Day 3(Part 1) – Energy Healing and Mindfulness\n– Dive into mindfulness practices and their impact on brainwaves and health.\n– Attune yourself to the practice of Energy Healing and how to enter the Theta State.\n– Creating a sound guided meditation flow\n⚡ Day 3(Part 2) – Energy Constructs and Proper Techniques in\n– Prep & aftercare using proper techniques with grounding energy energetic shields\n– Explore major hand placements for Chakra energy healing\n– Experience an introductory Tuning Fork demonstration. \nSchedule:\n🗓️ DAY 1 – FRI NOV 21 – 2:00PM – 9:00PM\n🗓️ DAY 2 – SAT NOV 22 – 2:00PM – 9:00PM\n🗓️ DAY 3 – SUN NOV 23 – 2:00PM – 9:00PM \n*Enjoy a refreshing 45-minute break during each class. \n🌊Harmonic Waves Healing is an accredited certification program with a focus on Holistic Health through combining Sound\, Music\, Vibration therapy and Qi energy field alignments. Our mission is to: 1) educate and bring awareness to the world about the impact of vibration frequencies to the mind\, body\, and our environment; 2) aid and assist in the alignment of the body’s energetic systems while healing emotional and mental traumas; 3) initiate participants to the practice of energy and vibration healing through attunements to bring harmony and balance to the mind\, body\, and energy centers and energy field. \n*CEs available for Massage Therapists Yoga Instructors \n🎶 Ready to harmonize your life and amplify your healing abilities?\n✨RSVP today and secure your spot on this healing journey. ✨ Take advantage of our early bird prices\, please register ahead to ensure your spot while it lasts. This is a limited intimate class.✨ \nAdmission:\nEarly Bird: $500 (till OCT 31)\nRegular Admission: $575 (NOV 1 – NOV 21)\nPre-registration is required through the link below  \nLocation: Oto Float – 1214 Washington Ave\, Wilmette\, IL 60091
URL:https://www.harmonicwaveshealing.com/classes/sound-healing-certification-vibration-therapy-ce-available-wilmette-il/
LOCATION:Oto Float
ATTACH;FMTTYPE=image/jpeg:https://www.harmonicwaveshealing.com/wp-content/uploads/2025/09/20509_image_515050853_1253420519920290_5303289594131754913_n.jpg
END:VEVENT
BEGIN:VEVENT
DTSTART;TZID=America/Chicago:20251128T180000
DTEND;TZID=America/Chicago:20251128T200000
DTSTAMP:20260424T052256
CREATED:20250918T122600Z
LAST-MODIFIED:20250918T122604Z
UID:20511-1764352800-1764360000@www.harmonicwaveshealing.com
SUMMARY:Post-Thanksgiving Gong Wash Sound Healing Symphony
DESCRIPTION:🦃✨ After a day of gathering\, gratitude\, and feasting\, give yourself the gift of rest and renewal. Join us for an evening of sonic nourishment as the powerful vibrations of gongs\, singing bowls\, handpan\, and flutes carry you into deep relaxation and reflection. ✨🍂 \n🌙💛This symphony of sound will help release tension\, restore balance\, and cultivate a heart full of gratitude as we move deeper into the season of giving and abundance. Allow yourself to be bathed in healing frequencies and anchor the spirit of Thanksgiving within. 🕊️ \n🌟 Highlights of the Journey 🌟\n– 3 Powerful Gongs: Blue Stargate (Heart Chakra & Earth frequency)\, Sun Gong (OM frequency)\, and Atlantis Gong (emotional balance & intuitive awakening).\n– Energetic Cleansing: Clear blockages on emotional\, physical\, and energetic levels.\n– Deep Integration: Reflect\, ground\, and set new intentions in a state of balance.\n– Sacred Soundscape: Bathe in harmonic frequencies that rejuvenate and restore. \n🎶 The Power of the Gongs 🎶\nSun Gong – Radiating cosmic OM vibrations that renew life force energy.\nAtlantis Gong – Unlocking emotional release and intuitive wisdom.\nBlue Stargate Gong – Tuning your heart to the Schumann Resonance\, the Earth’s natural frequency. \n🧘‍♀️ What to Bring:\n✔ Yoga mat\, pillow\, blanket\, eye mask for comfort\n✔ Water for hydration\n✔ Comfortable clothing to fully relax into the journey \n💫 About Your Guide\nSimon Jay Cervania is a visionary artist\, musician\, and master sound healer with over 15 years of experience. A Reiki Master Teacher and practitioner of multiple healing arts—including vibration therapy\, qi gong\, tai chi\, biofield tuning\, brain entrainment and tuning fork therapy—Jay has dedicated his life to bringing vibrational medicine to communities across the Midwest and beyond. His artistry and presence create an unforgettable container for transformation. \n📲 RSVP Now and join us for this magical celebration of sound\, light\, and transformation! \n🎟️Admission🎟️\nEarly Bird: $35\nSame Day Registration: $40 (*if space permits) \nLocation: Northshore Healing Centre – 6185 N Canfield Ave\, Chicago\, IL 60631
URL:https://www.harmonicwaveshealing.com/classes/post-thanksgiving-gong-wash-sound-healing-symphony/
LOCATION:Northshore Healing Centre\, Northshore Healing Centre
ATTACH;FMTTYPE=image/jpeg:https://www.harmonicwaveshealing.com/wp-content/uploads/2025/09/20511_image_541438892_1254297799832562_7634106620679539841_n-1.jpg
END:VEVENT
BEGIN:VEVENT
DTSTART;TZID=America/Chicago:20251130T183000
DTEND;TZID=America/Chicago:20251130T203000
DTSTAMP:20260424T052256
CREATED:20250918T122611Z
LAST-MODIFIED:20250918T122611Z
UID:20520-1764527400-1764534600@www.harmonicwaveshealing.com
SUMMARY:Sound Bath Serenity: Gong Wash Meditation
DESCRIPTION:🌟 Sound Bath Serenity: Gong Wash Meditation at the Japanese Cultural Center 🌟 \n🌊✨ Step into an evening of peace\, renewal\, and inner discovery at the beautiful Japanese Cultural Center. Allow yourself to be enveloped by the healing power of sound as you journey into a state of deep calm and restoration. \n❤️ Immerse yourself in a symphony of sacred instruments—crystalline singing bowls\, resonant gongs\, ethereal flutes\, grounding drums\, bells\, and the melodic handpan. Each vibration is designed to guide you beyond the chatter of the mind\, opening pathways to release tension\, restore balance\, and awaken a deeper connection with yourself. \n🧘‍♂️ As you lay comfortably\, surrender to this 90-minute sound immersion and feel waves of resonance wash through your entire being—cleansing\, calming\, and invigorating. Let the frequencies realign your nervous system\, expand your awareness\, and bring you into harmony with the present moment. \n✨ Benefits of the Sound Bath Experience: \nShift brainwave states into deeper relaxation & meditation \nClear energetic blockages and stagnant emotions \nRelease physical tension and stress \nEnhance clarity\, focus\, and emotional balance \nStrengthen awareness and spiritual connection \nSupport physical healing & restore energy flow \nHarmonize the nervous system for greater well-being \n🎶 Facilitator\n🕉 Simon Jay Cervania\, founder of the Harmonic Waves Healing Accredited Certification Program\, is an accomplished visionary artist\, musician\, and Reiki Master Teacher with over 15 years of experience in holistic health\, sound healing\, brainwave entrainment\, biofield energy therapy\, and trauma release. Born in the Philippines and now based in Chicago\, Jay is dedicated to creating transformative spaces of healing through sound\, ceremony\, and vibration. He shares his work internationally across cultural centers\, yoga studios\, and holistic wellness communities. \n✔️ What to Bring\nWear comfortable clothing and bring anything that will help you fully relax—yoga mat\, blanket\, pillow\, bolster\, or eye pillow. \n🎟 Registration \nEarly Bird: $35 \nSame Day (if space permits): $40\nLimited capacity—reserve your spot today! \n📍 Location\nJapanese Cultural Center\n2940 N Lincoln Ave #2\, Chicago\, IL 60657
URL:https://www.harmonicwaveshealing.com/classes/sound-bath-serenity-gong-wash-meditation-7/
LOCATION:Japanese Culture Center – 日本文化会館\, Japanese Culture Center - 日本文化会館
ATTACH;FMTTYPE=image/jpeg:https://www.harmonicwaveshealing.com/wp-content/uploads/2025/09/20520_image_540459274_1254092656519743_2089329749118687081_n.jpg
END:VEVENT
END:VCALENDAR