BEGIN:VCALENDAR
VERSION:2.0
PRODID:-//Harmonic Waves Healing - ECPv6.0.6.2//NONSGML v1.0//EN
CALSCALE:GREGORIAN
METHOD:PUBLISH
X-ORIGINAL-URL:https://www.harmonicwaveshealing.com
X-WR-CALDESC:Events for Harmonic Waves Healing
REFRESH-INTERVAL;VALUE=DURATION:PT1H
X-Robots-Tag:noindex
X-PUBLISHED-TTL:PT1H
BEGIN:VTIMEZONE
TZID:America/Chicago
BEGIN:DAYLIGHT
TZOFFSETFROM:-0600
TZOFFSETTO:-0500
TZNAME:CDT
DTSTART:20250309T080000
END:DAYLIGHT
BEGIN:STANDARD
TZOFFSETFROM:-0500
TZOFFSETTO:-0600
TZNAME:CST
DTSTART:20251102T070000
END:STANDARD
END:VTIMEZONE
BEGIN:VEVENT
DTSTART;TZID=America/Chicago:20250523T190000
DTEND;TZID=America/Chicago:20250523T210000
DTSTAMP:20260420T133027
CREATED:20250523T093711Z
LAST-MODIFIED:20250523T105242Z
UID:20321-1748026800-1748034000@www.harmonicwaveshealing.com
SUMMARY:Sonic Sanctuary: Gong Wash Sound Therapy
DESCRIPTION:🌠Step into a realm of pure resonance and relaxation with Sonic Sanctuary: Gong Wash Sound Therapy. This immersive experience invites you to journey beyond the noise of daily life into a tranquil soundscape designed to bring harmony to your mind\, body\, and spirit. \n🌌Guided by skilled sound healers\, you’ll be bathed in the deeply restorative vibrations of gongs\, singing bowls\, chimes\, and other therapeutic instruments. The resonant sound waves will wash away stagnant energy\, promoting a deep sense of calm\, clarity\, and rejuvenation to align your mind\, body\, and spirit for the year ahead. \n✨ What to Expect:\nWelcome & Intention Setting: Begin the evening by setting powerful intentions for the New Year as we create a sacred container for transformation. \nSound Healing Experience: Immerse yourself in the harmonic waves of a full gong wash\, releasing what no longer serves you and making space for new energy. \nReflection & Integration: Time to ground\, reflect\, and embody your intentions as you prepare to embrace the opportunities of the year to come. \n🌟 Benefits of the Gong Wash Experience: \n– Release physical\, emotional\, and energetic tension\n– Reset and balance your nervous system\n– Cultivate mental clarity and peace of mind\n– Step into the New Year feeling renewed and aligned \n🧘‍♀️ What to Bring:\n– Yoga mat\, blanket\, pillow\, eye mask\, and anything to keep you warm and comfortable\n– Water to stay hydrated\n-Comfortable clothing to relax fully into the sound journey \n✨ Begin your New Year in a state of peace\, harmony\, and balance. Create space for your dreams and intentions to manifest in 2025 with the transformative power of sound healing. ✨ \n🌞 Powerful gongs serve as a facilitator to break up energetic\, emotional\, and spiritual blockages. The Sun Gong is specifically tuned to the vibrational frequency of the Sun and is associated with OM. It is believed to give life and vibrate its healing and life giving frequency. The Atlantis Gong is believed to facilitate emotional release\, clear energetic blockages and heighten intuitive connection. Both gongs carry deep full bodied sound and harmonic overtones that can conjure up emotional depth\, stimulate the nervous system\, and provide a very potent energetic vibration cleanse. \n🕉 Simon Jay Cervania is the Founder of the Harmonic Waves Healing Accredited Certification Program. Using vibrations as a therapeutic tool\, Jay facilitates live sound journey gong washes and teaches certification programs on sound and vibration therapy. He is a multifaceted and talented artist\, a painter of visionary art and a musician with over 15 years’ experience with a focus on holistic health\, brainwave entrainment\, biofield energy therapy\, energetic trauma release\, and is a Reiki Master Teacher. Originally from the Philippines Jay is currently based in the Chicago area\, where he leads classes\, workshops\, and mindful conscious community events that are focused on healing modalities\, sound and vibration therapy\, ceremonies\, and shamanic healing. Jay travels and works with various cultural and wellness centers\, yoga studios\, holistic healing spaces. He has been a speaker\, painted live\, facilitated gong wash sound healing\, and performed music at various festivals. \nJoin us for an unforgettable sound healing experience that will leave you feeling lighter\, calmer\, and deeply rejuvenated. \nPlease Note\nCome dressed comfortably. Bring your yoga mat\, pillows\, bolsters\, an eye pillow… anything that will help you relax. \nAdmission:\nEarly Bird: $40\nSame Day Registration: $45 \n*Very limited space\, small intimate setting. Register now to reserve your spot \nLocation: Northshore Aikido –3390 Commercial Ave\, Northbrook\, IL
URL:https://www.harmonicwaveshealing.com/classes/sonic-sanctuary-gong-wash-sound-therapy/
LOCATION:3390 Commercial Ave\, Northbrook\, IL 60062-1909\, United States\, 3390 Commercial Ave\, Northbrook\, IL 60062-1909\, United States
ATTACH;FMTTYPE=image/jpeg:https://www.harmonicwaveshealing.com/wp-content/uploads/2025/05/20321_image_492452571_1151814256747584_8886029136316959014_n.jpg
ORGANIZER;CN="Harmonic%20Waves%20Healing":MAILTO:noreply@facebookmail_com
END:VEVENT
BEGIN:VEVENT
DTSTART;TZID=America/Chicago:20250524T190000
DTEND;TZID=America/Chicago:20250524T220000
DTSTAMP:20260420T133027
CREATED:20250523T093711Z
LAST-MODIFIED:20250523T110824Z
UID:20322-1748113200-1748124000@www.harmonicwaveshealing.com
SUMMARY:Bloom & Flow: Ecstatic Dance & Sound Bath
DESCRIPTION:✨ A Springtime Celebration of Renewal ✨ \nJoin us for Bloom & Flow — an immersive experience designed to awaken your senses\, clear your energy\, and align you with the vibrant renewal of spring. \nAs nature blooms around us\, we’re invited to bloom from within. This is a time to shed the layers of the past\, clear what no longer serves\, and open to the energy of new beginnings. \nThrough breath\, movement\, and sound\, we’ll enter a space of deep presence where creativity flows freely and inspiration takes root. You’ll be guided to tune into your inner landscape — to listen\, feel\, and plant seeds of intention for what you wish to grow and cultivate this year. \nThis powerful journey will guide you through: \n🌬️ Somatic Breathwork – Release stress and reconnect with your body through conscious breath and intuitive movement. \n💃 Ecstatic Dance – Let your body move freely and joyfully as we dance together in a space of radical self-expression and heart-centered rhythm. \n🔔 Gong Wash Sound Healing – Lay back and receive a deeply meditative sound journey with the transformative vibrations of gongs and sacred instruments to ground\, balance\, and integrate. \nWhether you’re seeking emotional release\, energetic alignment\, or a deeper connection to your inner self\, this event is a space to bloom where you are planted and flow where you are guided. \n✨ Come as you are. Leave renewed. ✨ \n🌸 What to bring:\n– Yoga mat or blanket\n– Water bottle\n– Comfortable clothing for movement\n– An open heart \nThis is more than just a healing experience — it’s a sacred reset\, a chance to align with your truth\, reconnect with your purpose\, and awaken the creative force within you. \nLet yourself breathe\, move\, and be transformed and let this be your moment to bloom boldly and flow freely into the life you’re meant to live. \n🧘Facilitator:\nSimon Jay Cervania\, is the Founder of the Harmonic Waves Healing Accredited Certification Program. Using vibrations as a therapeutic tool\, Jay facilitates live sound journey gong washes and teaches certification programs on sound and vibration therapy. He is a multifaceted and talented artist\, a painter of visionary art and a musician with over 15 years’ experience with a focus on holistic health\, brainwave entrainment\, biofield energy therapy\, energetic trauma release\, and is a Reiki Master Teacher. Originally from the Philippines\, Jay is currently based in the Chicago area\, where he leads classes\, workshops\, and mindful conscious community events that are focused on healing modalities\, sound and vibration therapy\, ceremonies\, and shamanic healing. Jay travels and works with various cultural and wellness centers\, yoga studios\, holistic healing spaces. \n🔍Please Note\nCome dressed comfortably. Bring your yoga mat\, pillows\, bolsters\, an eye pillow… anything that will help you relax.\n🎟️Registration🎟️\nEarly Bird: $35\nSame Day Admission $40 (if space permits) \n📍Location: yogaview Chicago 2211 N Elston Ave #200\, Chicago\, IL 60614
URL:https://www.harmonicwaveshealing.com/classes/bloom-flow-ecstatic-dance-sound-bath/
LOCATION:Yogaview\, 1231 Green Bay Road\, Wilmette\, IL\, 60091\, US
ATTACH;FMTTYPE=image/jpeg:https://www.harmonicwaveshealing.com/wp-content/uploads/2025/05/20341_image_493452438_1158354296093580_7220508347095049759_n.jpg
ORGANIZER;CN="Harmonic%20Waves%20Healing":MAILTO:noreply@facebookmail_com
END:VEVENT
BEGIN:VEVENT
DTSTART;TZID=America/Chicago:20250525T190000
DTEND;TZID=America/Chicago:20250525T210000
DTSTAMP:20260420T133027
CREATED:20250523T093711Z
LAST-MODIFIED:20250523T110824Z
UID:20323-1748199600-1748206800@www.harmonicwaveshealing.com
SUMMARY:Spring New Moon Gong Wash Sound Healing
DESCRIPTION:Step into a sacred space of renewal as we welcome the Spring New Moon—a time when the energy of rebirth\, potential\, and possibility is at its peak. This is nature’s green light to start fresh\, plant new seeds\, and manifest your deepest intentions. \n💫 The New Moon marks the beginning of the lunar cycle—a powerful time for inner visioning and setting the tone for what’s to come. Coupled with the vibrant energy of Spring\, this is the ideal moment to initiate new ideas\, projects\, relationships\, and patterns. \n✨ What You’ll Experience:\n🔹 A Full Gong Wash – Release physical\, emotional\, and energetic tension as powerful sound waves cleanse and realign your energy. \n🌊 Our Gong Wash Sound Healing Journey will bathe you in therapeutic sound waves designed to bring balance and alignment to your energetic body. The deep vibrations of gongs\, bowls\, and other sacred instruments support: \n• Vibrational cleansing – releasing energetic blockages and old emotional residue\n• Nervous system reset – calming the mind and soothing anxiety and stress\n• Heightened intuition – opening your inner channels for guidance and clarity\n• Cellular rejuvenation – promoting harmony and healing on a physical level\n• Spiritual alignment – creating space for soul intention and divine insight \n🎶 Meet Your Guide:\nSimon Jay Cervania is a renowned sound healer\, musician\, and visionary artist with over 15 years of experience in biofield therapy\, energetic trauma release\, and vibrational healing. As the founder of the Harmonic Waves Healing Accredited Certification Program\, Jay has shared his wisdom through workshops\, retreats\, and healing sessions across the Midwest. His passion for sound healing is rooted in a deep understanding of the profound effects that vibration and frequency have on the mind\, body\, and spirit. \n🌿 Come as you are and relax into a restorative journey of sound and stillness. \n🧘 Please bring: \n– Yoga mat\n– Blanket and pillow\n– Water\n– Journal + pen for your New Moon intentions \nAllow yourself to be enveloped in sound and supported by the cycles of nature. Let’s clear what no longer serves and activate what’s ready to bloom. \n🔔 Spaces are limited—reserve your spot today! \n🎟️Admission:\nEarly Bird: $40\nSame Day Registration: $45\n*each guest will receive a surprise take away gift \n👉 Secure your spot: https://clients.mindbodyonline.com/classic/ws?studioid=282650&stype=-8&sTG=23&sVT=3152&sView=day&sLoc=0 \n📍Location: Rising Lotus Healing Center – 14911 S Bell Rd\, Homer Glen\, IL
URL:https://www.harmonicwaveshealing.com/classes/spring-new-moon-gong-wash-sound-healing/
LOCATION:Rising Lotus Healing Center\, Rising Lotus Healing Center
ATTACH;FMTTYPE=image/jpeg:https://www.harmonicwaveshealing.com/wp-content/uploads/2025/05/20342_image_494101249_1156533089609034_4891972896844838406_n.jpg
ORGANIZER;CN="Harmonic%20Waves%20Healing":MAILTO:noreply@facebookmail_com
END:VEVENT
BEGIN:VEVENT
DTSTART;TZID=America/Chicago:20250530T140000
DTEND;TZID=America/Chicago:20250601T210000
DTSTAMP:20260420T133027
CREATED:20250523T093711Z
LAST-MODIFIED:20250523T110824Z
UID:20324-1748613600-1748811600@www.harmonicwaveshealing.com
SUMMARY:Sound Healing Certification Vibration Therapy - CE available (Chicago)
DESCRIPTION:🌟 Join us for an On-Site Transformative Sound Healing Certification Program with a Live Teacher! 🌟 \nJoin us for a transformative three-day certification program that delves deep into the fascinating world of sound\, music\, vibration\, frequencies and their profound impact on the mind\, emotions\, energy\, and physical body. Discover the powerful applications of various instruments as tools for sound healing\, and unlock the potential to enhance consciousness\, productivity\, healing rates\, chakra alignment\, mental clarity\, relaxation\, and trauma release. Be the leading educated influence in your community\, family\, business or personal journey. \n✨ What to Expect: ✨\n📚 Day 1(Part 1) – Principles of Vibrations\n– Explore the fundamentals of frequencies\, sound\, and cymatics.\n– Understand the magic of sympathetic resonance and the nuances between A440 and A432 chromatic tuning.\n– Learn the direct association and Frequencies of chakras\, notes\, colors in the electromagnetic spectrum\n🎵 Day 1(Part 2) – Learn to Use Musical Instruments as Tools for Sound Healing\n– Get hands-on with instruments like Drums\, Rattles\, and textural instruments.\n– Discover the differences and functions of different the variety of Singing Bowls and other instruments used in the field\n– Enjoy a HandPan demo and the power of Gongs\n🪶 Day 2(Part 1) – Tuning the Body\, Tuning the Mind\n– Exploring the brainwaves activities and frequencies with an EEG\n– Tapping into Brain entrainment with binaural beats\, and isochronic frequencies.\n– Experience the magic of the Vibro-Acoustic Therapy in a comprehensive demo.\n🙌 Day 2(Part 2) – Hands on Training\n– Assessment of Trauma in the chakra/ biofield (energetic body)\n– Engage in hands-on practice with singing bowls on the body\n– Experience and Facilitate a Gongwash vibration therapy\n🧘‍♀ Day 3(Part 1) – Energy Healing and Mindfulness\n– Dive into mindfulness practices and their impact on brainwaves and health.\n– Attune yourself to the practice of Energy Healing and how to enter the Theta State.\n– Creating a sound guided meditation flow\n⚡ Day 3(Part 2) – Energy Constructs and Proper Techniques in\n– Prep & aftercare using proper techniques with grounding energy energetic shields\n– Explore major hand placements for Chakra energy healing\n– Experience an introductory Tuning Fork demonstration. \nSchedule:\n🗓️ DAY 1 – FRI MAY 30 – 2:00PM – 9:00PM\n🗓️ DAY 2 – SAT MAY 31 – 2:00PM – 9:00PM\n🗓️ DAY 3 – SUN JUN 1 – 2:00PM – 9:00PM \n*Enjoy a refreshing 45-minute break during each class. \n🌊Harmonic Waves Healing is an accredited certification program with a focus on Holistic Health through combining Sound\, Music\, Vibration therapy and Qi energy field alignments. Our mission is to: 1) educate and bring awareness to the world about the impact of vibration frequencies to the mind\, body\, and our environment; 2) aid and assist in the alignment of the body’s energetic systems while healing emotional and mental traumas; 3) initiate participants to the practice of energy and vibration healing through attunements to bring harmony and balance to the mind\, body\, and energy centers and energy field. \n*CEs available for Massage Therapists Yoga Instructors \n🎶 Ready to harmonize your life and amplify your healing abilities?\n✨RSVP today and secure your spot on this healing journey. ✨ Take advantage of our early bird prices\, please register ahead to ensure your spot while it lasts. This is a limited intimate class.✨ \nAdmission:\nEarly Bird: $500 (till MAY 9)\nRegistration: $575 (MAY 10 – MAY 30 ) \nPre-registration is required  \nLocation: Northshore Healing Centre – 6185 N Canfield Ave\, Chicago\, IL 60631
URL:https://www.harmonicwaveshealing.com/classes/sound-healing-certification-vibration-therapy-ce-available-chicago/
LOCATION:Northshore Healing Centre\, Northshore Healing Centre
ATTACH;FMTTYPE=image/jpeg:https://www.harmonicwaveshealing.com/wp-content/uploads/2025/05/20180_image_485781086_1129132529015757_6690158558335234296_n.jpg
ORGANIZER;CN="Harmonic%20Waves%20Healing":MAILTO:noreply@facebookmail_com
END:VEVENT
END:VCALENDAR