BEGIN:VCALENDAR
VERSION:2.0
PRODID:-//Harmonic Waves Healing - ECPv6.0.6.2//NONSGML v1.0//EN
CALSCALE:GREGORIAN
METHOD:PUBLISH
X-WR-CALNAME:Harmonic Waves Healing
X-ORIGINAL-URL:https://www.harmonicwaveshealing.com
X-WR-CALDESC:Events for Harmonic Waves Healing
REFRESH-INTERVAL;VALUE=DURATION:PT1H
X-Robots-Tag:noindex
X-PUBLISHED-TTL:PT1H
BEGIN:VTIMEZONE
TZID:America/Chicago
BEGIN:DAYLIGHT
TZOFFSETFROM:-0600
TZOFFSETTO:-0500
TZNAME:CDT
DTSTART:20260308T080000
END:DAYLIGHT
BEGIN:STANDARD
TZOFFSETFROM:-0500
TZOFFSETTO:-0600
TZNAME:CST
DTSTART:20261101T070000
END:STANDARD
END:VTIMEZONE
BEGIN:VEVENT
DTSTART;TZID=America/Chicago:20260605T140000
DTEND;TZID=America/Chicago:20260607T210000
DTSTAMP:20260420T025709
CREATED:20260311T123314Z
LAST-MODIFIED:20260311T124134Z
UID:20652-1780668000-1780866000@www.harmonicwaveshealing.com
SUMMARY:Sound Healing Certification Vibration Therapy - CE available (Homer Glen)
DESCRIPTION:Join us for an On-Site Transformative Sound Healing Certification Program with a Live Teacher!  \nJoin us for a transformative three-day certification program that delves deep into the fascinating world of sound\, music\, vibration\, frequencies and their profound impact on the mind\, emotions\, energy\, and physical body. Discover the powerful applications of various instruments as tools for sound healing\, and unlock the potential to enhance consciousness\, productivity\, healing rates\, chakra alignment\, mental clarity\, relaxation\, and trauma release. Be the leading educated influence in your community\, family\, business or personal journey. \n✨ What to Expect: ✨\nDay 1(Part 1) – Principles of Vibrations\n– Explore the fundamentals of frequencies\, sound\, and cymatics.\n– Understand the magic of sympathetic resonance and the nuances between A440 and A432 chromatic tuning.\n– Learn the direct association and Frequencies of chakras\, notes\, colors in the electromagnetic spectrum \n Day 1(Part 2) – Learn to Use Musical Instruments as Tools for Sound Healing\n– Get hands-on with instruments like Drums\, Rattles\, and textural instruments.\n– Discover the differences and functions of different the variety of Singing Bowls and other instruments used in the field\n– Enjoy a HandPan demo and the power of Gongs \n Day 2(Part 1) – Tuning the Body\, Tuning the Mind\n– Exploring the brainwaves activities and frequencies with an EEG\n– Tapping into Brain entrainment with binaural beats\, and isochronic frequencies.\n– Experience the magic of the Vibro-Acoustic Therapy in a comprehensive demo. \n Day 2(Part 2) – Hands on Training\n– Assessment of Trauma in the chakra/ biofield (energetic body)\n– Engage in hands-on practice with singing bowls on the body\n– Experience and Facilitate a Gongwash vibration therapy \nDay 3(Part 1) – Energy Healing and Mindfulness\n– Dive into mindfulness practices and their impact on brainwaves and health.\n– Attune yourself to the practice of Energy Healing and how to enter the Theta State.\n– Creating a sound guided meditation flow \nDay 3(Part 2) – Energy Constructs and Proper Techniques in\n– Prep & aftercare using proper techniques with grounding energy energetic shields\n– Explore major hand placements for Chakra energy healing\n– Experience an introductory Tuning Fork demonstration. \nSchedule:\n🗓️ DAY 1 – FRI JUN 5 – 2:00PM – 9:00PM\n🗓️ DAY 2 – SAT JUN 6 – 2:00PM – 9:00PM\n🗓️ DAY 3 – SUN JUN 7– 2:00PM – 9:00PM \n*Enjoy a refreshing 45-minute break during each class. \n🌊Harmonic Waves Healing is an accredited certification program with a focus on Holistic Health through combining Sound\, Music\, Vibration therapy and Qi energy field alignments. Our mission is to: 1) educate and bring awareness to the world about the impact of vibration frequencies to the mind\, body\, and our environment; 2) aid and assist in the alignment of the body’s energetic systems while healing emotional and mental traumas; 3) initiate participants to the practice of energy and vibration healing through attunements to bring harmony and balance to the mind\, body\, and energy centers and energy field. \n*CEs available for Massage Therapists Yoga Instructors \n🎶 Ready to harmonize your life and amplify your healing abilities?  \n– RSVP today and secure your spot on this healing journey.Take advantage of our early bird prices\, please register ahead to ensure your spot while it lasts. This is a limited intimate class. \nAdmission:\nEarly Bird: $500 (till May 15)\nRegistration: $575 (May 16 – Jun 5) \nPre-registration is required through the link below or call 708-559-5644\n👉 \nLocation: 14911 S Bell Rd\, Homer Glen\, IL 60491
URL:https://www.harmonicwaveshealing.com/classes/sound-healing-certification-vibration-therapy-ce-available-homer-glen-3/
LOCATION:Rising Lotus Healing Center\, Rising Lotus Healing Center
ATTACH;FMTTYPE=image/jpeg:https://www.harmonicwaveshealing.com/wp-content/uploads/2026/03/20652_image_619854882_1370179604911047_6472640944494018223_n-1.jpg
END:VEVENT
BEGIN:VEVENT
DTSTART;TZID=America/Chicago:20260606T140000
DTEND;TZID=America/Chicago:20260606T210000
DTSTAMP:20260420T025709
CREATED:20250919T203416Z
LAST-MODIFIED:20250919T203416Z
UID:20546-1780754400-1780779600@www.harmonicwaveshealing.com
SUMMARY:Reiki Level 3 Master / Teacher - 2 days -Training & Attunement
DESCRIPTION:Take your Reiki practice to the highest level with our Level 3 Master Attunement and Teacher Training. This transformative training will deepen your understanding of Reiki energy\, connect you to the sacred Master symbols\, and empower you with the skills to cleanse\, clear\, and energize chakras\, meridians\, and auras. \n🌿 What You’ll Learn in Reiki Master Training:\n1️⃣ All Master Symbols from the Usui Reiki Lineage\n2️⃣ How to integrate Reiki with meridian point energy healing\n3️⃣ Illumination Technique for chakra & aura cleansing\n4️⃣ Fundamentals of performing Reiki Attunements \n📚 Teacher Training Program Includes: \nFull instruction on the attunement process & Reiki symbols \nGuidance on leading ceremonies and teaching Reiki classes \nSupport for building your own Reiki community\, circles\, and workshops \n💠 Reiki is a universal energy system that restores balance\, promotes deep relaxation\, and helps release emotional and physical blocks. This Master Level training is not only about deepening your personal practice but also about stepping into the role of a teacher and guide for others on their healing path. \n🎶 About the Instructor:\nSimon Jay Cervania – Founder of Harmonic Waves Healing Accredited Certification Program\, visionary artist\, musician\, and Reiki Master Teacher with over 15 years of experience in sound and energy healing. Jay has trained extensively in sound therapy\, crystal healing\, qi gong\, tai chi\, and other holistic practices\, sharing his gifts throughout the Midwest and beyond. \n✨ Harmonic Waves Healing is fully accredited by the Accreditation Council of Holistic Healers (ACHH) and the World Metaphysical Association (WMA). \n📍 Location: Oto Float – 1214 Washington Ave\, Wilmette\, IL 60091 \n🎟️ Registration: \nEarly Bird (until May 16): $330 \nRegular Admission (May 17 – June 6): $390 \n⚡️ Pre-registration is required. Secure your spot through the link below!\nhttps://buytickets.at/harmonicwaveshealing/1831163
URL:https://www.harmonicwaveshealing.com/classes/reiki-level-3-master-teacher-2-days-training-attunement-4/
LOCATION:Oto Float
ATTACH;FMTTYPE=image/jpeg:https://www.harmonicwaveshealing.com/wp-content/uploads/2025/09/20544_image_550041589_1269797701615905_2270909892941965988_n.jpg
END:VEVENT
END:VCALENDAR