BEGIN:VCALENDAR
VERSION:2.0
PRODID:-//Harmonic Waves Healing - ECPv6.0.6.2//NONSGML v1.0//EN
CALSCALE:GREGORIAN
METHOD:PUBLISH
X-WR-CALNAME:Harmonic Waves Healing
X-ORIGINAL-URL:https://www.harmonicwaveshealing.com
X-WR-CALDESC:Events for Harmonic Waves Healing
REFRESH-INTERVAL;VALUE=DURATION:PT1H
X-Robots-Tag:noindex
X-PUBLISHED-TTL:PT1H
BEGIN:VTIMEZONE
TZID:America/Chicago
BEGIN:DAYLIGHT
TZOFFSETFROM:-0600
TZOFFSETTO:-0500
TZNAME:CDT
DTSTART:20260308T080000
END:DAYLIGHT
BEGIN:STANDARD
TZOFFSETFROM:-0500
TZOFFSETTO:-0600
TZNAME:CST
DTSTART:20261101T070000
END:STANDARD
END:VTIMEZONE
BEGIN:VEVENT
DTSTART;TZID=America/Chicago:20260404T190000
DTEND;TZID=America/Chicago:20260404T210000
DTSTAMP:20260419T233623
CREATED:20260311T123644Z
LAST-MODIFIED:20260403T223249Z
UID:20669-1775329200-1775336400@www.harmonicwaveshealing.com
SUMMARY:Gong Wash Sound Healing Symphony
DESCRIPTION:A Transformative Sound Healing Experience  \nStep into a sanctuary of sound and vibration\, where the deep\, resonant tones of gongs\, singing bowls\, handpans\, flutes\, chimes\, and chanting instruments guide you into a state of deep relaxation\, energetic balance\, and renewal. \nLed by Simon Jay Cervania\, founder of Harmonic Waves Healing\, this immersive experience is designed to clear stagnant energy\, restore harmony\, and awaken inner stillness. \nWhat You’ll Experience:\n–A Full Gong Wash – Release physical\, emotional\, and energetic tension as powerful sound waves cleanse and realign your energy.\n– Three Sacred Gongs:\nSun Gong – Tuned to the OM frequency\, radiating healing vibrations.\nAtlantis Gong – Facilitates deep emotional release and heightened intuition.\nBlue Stargate Gong – Tuned to the Heart Chakra and Schumann Resonance\, grounding you in the Earth’s natural frequency.\n– Guided Sound Journey – Immerse yourself in a symphony of healing frequencies\, calming melodies\, and harmonic overtones.\n– Reflection & Integration – A space to ground\, set intentions\, and embrace a renewed sense of clarity and peace. \nWhat to Bring:\nA yoga mat\, pillow\, blanket\, and eye mask for comfort\nWater to stay hydrated\nComfortable clothing to help you fully relax \nMeet Your Guide:\nSimon Jay Cervania is a renowned sound healer\, musician\, and visionary artist with over 15 years of experience in biofield therapy\, energetic trauma release\, and vibrational healing. As the founder of the Harmonic Waves Healing Accredited Certification Program\, Jay has shared his wisdom through workshops\, retreats\, and healing sessions across the Midwest. His passion for sound healing is rooted in a deep understanding of the profound effects that vibration and frequency have on the mind\, body\, and spirit. \nWhy Attend?\n– Release stress\, tension\, and emotional blockages\n– Reset and balance your nervous system\n– Experience deep relaxation\, clarity\, and rejuvenation\n– Elevate your frequency and align with your highest self \nThis is more than just a meditation\, it’s a full-body vibrational healing experience. Whether you seek relaxation\, emotional healing\, or a transformative journey\, this evening of sound and resonance will leave you feeling refreshed\, balanced\, and deeply renewed. \nSpaces are limited—reserve your spot today! \nAdmission:\nEarly Bird: $35\nSame Day Registration: $40 \n👉 https://clients.mindbodyonline.com/classic/ws?studioid=282650&stype=-8&sTG=23&sVT=3152&sView=day&sLoc=0 \n📍Location: Rising Lotus Healing Center – 14911 S Bell Rd\, Homer Glen\, IL
URL:https://www.harmonicwaveshealing.com/classes/gong-wash-sound-healing-symphony-18/
LOCATION:Rising Lotus Healing Center\, Rising Lotus Healing Center
ATTACH;FMTTYPE=image/jpeg:https://www.harmonicwaveshealing.com/wp-content/uploads/2026/03/20669_image_652318077_1412602714002069_7944417397250821970_n.jpg
END:VEVENT
END:VCALENDAR