BEGIN:VCALENDAR
VERSION:2.0
PRODID:-//Harmonic Waves Healing - ECPv6.0.6.2//NONSGML v1.0//EN
CALSCALE:GREGORIAN
METHOD:PUBLISH
X-WR-CALNAME:Harmonic Waves Healing
X-ORIGINAL-URL:https://www.harmonicwaveshealing.com
X-WR-CALDESC:Events for Harmonic Waves Healing
REFRESH-INTERVAL;VALUE=DURATION:PT1H
X-Robots-Tag:noindex
X-PUBLISHED-TTL:PT1H
BEGIN:VTIMEZONE
TZID:America/Chicago
BEGIN:DAYLIGHT
TZOFFSETFROM:-0600
TZOFFSETTO:-0500
TZNAME:CDT
DTSTART:20250309T080000
END:DAYLIGHT
BEGIN:STANDARD
TZOFFSETFROM:-0500
TZOFFSETTO:-0600
TZNAME:CST
DTSTART:20251102T070000
END:STANDARD
END:VTIMEZONE
BEGIN:VEVENT
DTSTART;TZID=America/Chicago:20251128T180000
DTEND;TZID=America/Chicago:20251128T200000
DTSTAMP:20260421T143634
CREATED:20250918T122600Z
LAST-MODIFIED:20250918T122604Z
UID:20511-1764352800-1764360000@www.harmonicwaveshealing.com
SUMMARY:Post-Thanksgiving Gong Wash Sound Healing Symphony
DESCRIPTION:🦃✨ After a day of gathering\, gratitude\, and feasting\, give yourself the gift of rest and renewal. Join us for an evening of sonic nourishment as the powerful vibrations of gongs\, singing bowls\, handpan\, and flutes carry you into deep relaxation and reflection. ✨🍂 \n🌙💛This symphony of sound will help release tension\, restore balance\, and cultivate a heart full of gratitude as we move deeper into the season of giving and abundance. Allow yourself to be bathed in healing frequencies and anchor the spirit of Thanksgiving within. 🕊️ \n🌟 Highlights of the Journey 🌟\n– 3 Powerful Gongs: Blue Stargate (Heart Chakra & Earth frequency)\, Sun Gong (OM frequency)\, and Atlantis Gong (emotional balance & intuitive awakening).\n– Energetic Cleansing: Clear blockages on emotional\, physical\, and energetic levels.\n– Deep Integration: Reflect\, ground\, and set new intentions in a state of balance.\n– Sacred Soundscape: Bathe in harmonic frequencies that rejuvenate and restore. \n🎶 The Power of the Gongs 🎶\nSun Gong – Radiating cosmic OM vibrations that renew life force energy.\nAtlantis Gong – Unlocking emotional release and intuitive wisdom.\nBlue Stargate Gong – Tuning your heart to the Schumann Resonance\, the Earth’s natural frequency. \n🧘‍♀️ What to Bring:\n✔ Yoga mat\, pillow\, blanket\, eye mask for comfort\n✔ Water for hydration\n✔ Comfortable clothing to fully relax into the journey \n💫 About Your Guide\nSimon Jay Cervania is a visionary artist\, musician\, and master sound healer with over 15 years of experience. A Reiki Master Teacher and practitioner of multiple healing arts—including vibration therapy\, qi gong\, tai chi\, biofield tuning\, brain entrainment and tuning fork therapy—Jay has dedicated his life to bringing vibrational medicine to communities across the Midwest and beyond. His artistry and presence create an unforgettable container for transformation. \n📲 RSVP Now and join us for this magical celebration of sound\, light\, and transformation! \n🎟️Admission🎟️\nEarly Bird: $35\nSame Day Registration: $40 (*if space permits) \nLocation: Northshore Healing Centre – 6185 N Canfield Ave\, Chicago\, IL 60631
URL:https://www.harmonicwaveshealing.com/classes/post-thanksgiving-gong-wash-sound-healing-symphony/
LOCATION:Northshore Healing Centre\, Northshore Healing Centre
ATTACH;FMTTYPE=image/jpeg:https://www.harmonicwaveshealing.com/wp-content/uploads/2025/09/20511_image_541438892_1254297799832562_7634106620679539841_n-1.jpg
END:VEVENT
END:VCALENDAR