BEGIN:VCALENDAR
VERSION:2.0
PRODID:-//Harmonic Waves Healing - ECPv6.0.6.2//NONSGML v1.0//EN
CALSCALE:GREGORIAN
METHOD:PUBLISH
X-WR-CALNAME:Harmonic Waves Healing
X-ORIGINAL-URL:https://www.harmonicwaveshealing.com
X-WR-CALDESC:Events for Harmonic Waves Healing
REFRESH-INTERVAL;VALUE=DURATION:PT1H
X-Robots-Tag:noindex
X-PUBLISHED-TTL:PT1H
BEGIN:VTIMEZONE
TZID:America/Chicago
BEGIN:DAYLIGHT
TZOFFSETFROM:-0600
TZOFFSETTO:-0500
TZNAME:CDT
DTSTART:20250309T080000
END:DAYLIGHT
BEGIN:STANDARD
TZOFFSETFROM:-0500
TZOFFSETTO:-0600
TZNAME:CST
DTSTART:20251102T070000
END:STANDARD
END:VTIMEZONE
BEGIN:VEVENT
DTSTART;TZID=America/Chicago:20251005T183000
DTEND;TZID=America/Chicago:20251005T203000
DTSTAMP:20260420T210459
CREATED:20250918T121613Z
LAST-MODIFIED:20250918T122603Z
UID:20465-1759689000-1759696200@www.harmonicwaveshealing.com
SUMMARY:Sound Bath Serenity: Gong Wash Meditation
DESCRIPTION:🌟 Sound Bath Serenity: Gong Wash Meditation at the Japanese Cultural Center 🌟 \n🌊✨ Step into an evening of peace\, renewal\, and inner discovery at the beautiful Japanese Cultural Center. Allow yourself to be enveloped by the healing power of sound as you journey into a state of deep calm and restoration. \n❤️ Immerse yourself in a symphony of sacred instruments—crystalline singing bowls\, resonant gongs\, ethereal flutes\, grounding drums\, bells\, and the melodic handpan. Each vibration is designed to guide you beyond the chatter of the mind\, opening pathways to release tension\, restore balance\, and awaken a deeper connection with yourself. \n🧘‍♂️ As you lay comfortably\, surrender to this 90-minute sound immersion and feel waves of resonance wash through your entire being—cleansing\, calming\, and invigorating. Let the frequencies realign your nervous system\, expand your awareness\, and bring you into harmony with the present moment. \n✨ Benefits of the Sound Bath Experience: \nShift brainwave states into deeper relaxation & meditation \nClear energetic blockages and stagnant emotions \nRelease physical tension and stress \nEnhance clarity\, focus\, and emotional balance \nStrengthen awareness and spiritual connection \nSupport physical healing & restore energy flow \nHarmonize the nervous system for greater well-being \n🎶 Facilitator\n🕉 Simon Jay Cervania\, founder of the Harmonic Waves Healing Accredited Certification Program\, is an accomplished visionary artist\, musician\, and Reiki Master Teacher with over 15 years of experience in holistic health\, sound healing\, brainwave entrainment\, biofield energy therapy\, and trauma release. Born in the Philippines and now based in Chicago\, Jay is dedicated to creating transformative spaces of healing through sound\, ceremony\, and vibration. He shares his work internationally across cultural centers\, yoga studios\, and holistic wellness communities. \n✔️ What to Bring\nWear comfortable clothing and bring anything that will help you fully relax—yoga mat\, blanket\, pillow\, bolster\, or eye pillow. \n🎟 Registration \nEarly Bird: $35 \nSame Day (if space permits): $40\nLimited capacity—reserve your spot today! \n📍 Location\nJapanese Cultural Center\n2940 N Lincoln Ave #2\, Chicago\, IL 60657
URL:https://www.harmonicwaveshealing.com/classes/sound-bath-serenity-gong-wash-meditation-5/
LOCATION:Japanese Culture Center – 日本文化会館\, Japanese Culture Center - 日本文化会館
ATTACH;FMTTYPE=image/jpeg:https://www.harmonicwaveshealing.com/wp-content/uploads/2025/09/20465_image_551273869_1268523278410014_5673574182180562163_n.jpg
END:VEVENT
END:VCALENDAR