BEGIN:VCALENDAR
VERSION:2.0
PRODID:-//Harmonic Waves Healing - ECPv6.0.6.2//NONSGML v1.0//EN
CALSCALE:GREGORIAN
METHOD:PUBLISH
X-WR-CALNAME:Harmonic Waves Healing
X-ORIGINAL-URL:https://www.harmonicwaveshealing.com
X-WR-CALDESC:Events for Harmonic Waves Healing
REFRESH-INTERVAL;VALUE=DURATION:PT1H
X-Robots-Tag:noindex
X-PUBLISHED-TTL:PT1H
BEGIN:VTIMEZONE
TZID:America/Chicago
BEGIN:DAYLIGHT
TZOFFSETFROM:-0600
TZOFFSETTO:-0500
TZNAME:CDT
DTSTART:20250309T080000
END:DAYLIGHT
BEGIN:STANDARD
TZOFFSETFROM:-0500
TZOFFSETTO:-0600
TZNAME:CST
DTSTART:20251102T070000
END:STANDARD
END:VTIMEZONE
BEGIN:VEVENT
DTSTART;TZID=America/Chicago:20251004T180000
DTEND;TZID=America/Chicago:20251004T200000
DTSTAMP:20260420T222145
CREATED:20250918T121601Z
LAST-MODIFIED:20250918T122603Z
UID:20463-1759600800-1759608000@www.harmonicwaveshealing.com
SUMMARY:Gong Wash Sound Healing Symphony
DESCRIPTION:✨ Enter the Frequency of Healing ✨ \nAllow yourself to be carried into a sanctuary of sound with Gong Wash Sound Healing Symphony—an immersive vibrational journey designed to harmonize body\, mind\, and spirit. 🌙 \nGuided by Simon Jay Cervania\, founder/ instructor of the Harmonic Waves Healing Certification Program\, you’ll be enveloped in a symphony of sacred instruments: gongs\, singing bowls\, handpan\, chimes\, flutes\, and healing chants. Each vibration is crafted to dissolve stagnant energy\, reset the nervous system\, and awaken deep inner stillness. \n🌟 Highlights of the Journey 🌟 \n3 Powerful Gongs: Blue Stargate (Heart Chakra & Earth frequency)\, Sun Gong (OM frequency)\, and Atlantis Gong (emotional balance & intuitive awakening). \nEnergetic Cleansing: Clear blockages on emotional\, physical\, and energetic levels. \nDeep Integration: Reflect\, ground\, and set new intentions in a state of balance. \nSacred Soundscape: Bathe in harmonic frequencies that rejuvenate and restore. \n🎶 The Power of the Gongs 🎶 \nSun Gong – Radiating cosmic OM vibrations that renew life force energy. \nAtlantis Gong – Unlocking emotional release and intuitive wisdom. \nBlue Stargate Gong – Tuning your heart to the Schumann Resonance\, the Earth’s natural frequency. \n🧘‍♀️ What to Bring: \n✔ Yoga mat\, pillow\, blanket\, eye mask for comfort \n✔ Water for hydration \n✔ Comfortable clothing to fully relax into the journey \n💫 About Your Guide \nSimon Jay Cervania is a visionary artist\, musician\, and master sound healer with over 15 years of experience. A Reiki Master Teacher and practitioner of multiple healing arts—including vibration therapy\, qi gong\, tai chi\, biofield tuning\, brain entrainment and tuning fork therapy—Jay has dedicated his life to bringing vibrational medicine to communities across the Midwest and beyond. His artistry and presence create an unforgettable container for transformation. \n💖 This is more than meditation—it’s a vibrational reset. Whether you’re seeking emotional release\, nervous system restoration\, or simply a deep state of peace\, this sound immersion will leave you lighter\, aligned\, and renewed. \n🔔 Reserve your space now and step into a new frequency of harmony! \nRegistration:\nEarly Bird: $35\nSame Day: Admission: $40 \nLocation: yogaview Chicago – 2211 N Elston Ave #200\, Chicago\, IL 60614
URL:https://www.harmonicwaveshealing.com/classes/gong-wash-sound-healing-symphony-8/
LOCATION:Yogaview\, 1231 Green Bay Road\, Wilmette\, IL\, 60091\, US
ATTACH;FMTTYPE=image/jpeg:https://www.harmonicwaveshealing.com/wp-content/uploads/2025/09/20463_image_545141360_1259446309317711_5295070692827488943_n.jpg
END:VEVENT
END:VCALENDAR