BEGIN:VCALENDAR
VERSION:2.0
PRODID:-//Harmonic Waves Healing - ECPv6.0.6.2//NONSGML v1.0//EN
CALSCALE:GREGORIAN
METHOD:PUBLISH
X-ORIGINAL-URL:https://www.harmonicwaveshealing.com
X-WR-CALDESC:Events for Harmonic Waves Healing
REFRESH-INTERVAL;VALUE=DURATION:PT1H
X-Robots-Tag:noindex
X-PUBLISHED-TTL:PT1H
BEGIN:VTIMEZONE
TZID:America/Chicago
BEGIN:DAYLIGHT
TZOFFSETFROM:-0600
TZOFFSETTO:-0500
TZNAME:CDT
DTSTART:20250309T080000
END:DAYLIGHT
BEGIN:STANDARD
TZOFFSETFROM:-0500
TZOFFSETTO:-0600
TZNAME:CST
DTSTART:20251102T070000
END:STANDARD
END:VTIMEZONE
BEGIN:VEVENT
DTSTART;TZID=America/Chicago:20250613T190000
DTEND;TZID=America/Chicago:20250613T210000
DTSTAMP:20260420T165215
CREATED:20250523T093712Z
LAST-MODIFIED:20250523T110824Z
UID:20328-1749841200-1749848400@www.harmonicwaveshealing.com
SUMMARY:Harmonic Synergy: Biocharged Gong Wash Sound Healing
DESCRIPTION:A Resonant Field Therapy Experience for Total Energetic Reset \nStep into a one-of-a-kind vibrational healing experience that merges ancient sound wisdom with next-level frequency medicine. \nHarmonic Synergy: Biocharged Gong Wash Sound Healing is not just an event—it’s a portal into deep restoration\, rejuvenation\, and energetic alignment. \nThis immersive BioLuminous Sound Journey combines sacred sound therapy with a cutting-edge Tesla-inspired frequency healing device—the BioCharger NG—designed to realign your body’s energetic systems and recharge your life force. \n🌐 What to Expect:\n💫 Aura Activation via BioCharger NG\nPowered by the genius of Nikola Tesla’s frequency principles\, the BioCharger is a modern energy harmonizing device that emits a symphony of light\, voltage\, PEMFs\, and frequencies. These BioTonic Frequencies help cleanse and charge your energy field\, activating your aura\, enhancing cellular function\, and promoting clarity and vitality. Think of it as a spiritual supercharger. \n🔔 Gong Wash Sound Healing Therapy\nAllow the deep\, resonant tones of gongs\, bowls\, flute\, handpans\, drums and chimes to envelop your body and spirit. These sound waves induce a powerful Radiant Resonance\, quieting the mind\, melting away tension\, and clearing emotional stagnation. Each note works to realign your energetic centers and connect you to your deeper self. \n🧠 NeuroVibe Reset & BioField Reset\nTogether\, sound and Tesla-frequency therapy guide your nervous system into coherence. This NeuroVibe Reset and BioField Reset help dissolve energetic blockages\, regulate the brain\, and encourage a profound state of calm\, clarity\, and centeredness. \n🌈 Prismatic Pulse Therapy & Energy Harmonizer\nThe fusion of ancient sound and modern science creates a Prismatic Pulse Therapy effect—tuning your frequency\, illuminating your subtle bodies\, and harmonizing your internal systems. You’ll leave feeling balanced\, empowered\, and energetically renewed. \n🌟 Benefits You May Experience:\n– Increased energy and accelerated recovery\n– Nervous system regulation and stress release\n– Emotional clearing and deeper meditation\n– Enhanced sleep\, mood\, and focus\n– Chakra balancing and aura expansion\n– A renewed connection to self and source \n🧘‍♀️ What to Bring:\n✔️ Yoga mat\, pillow\, blanket\, and eye mask for comfort\n✔️ Water to stay hydrated\n✔️ Comfortable clothing to fully relax into the sound journey \nYour Guide:\n🧭Simon Jay Cervania\, is the Founder of Harmonic Waves Healing Accredited Certification Program. Using vibrations as a therapeutic tool\, Jay travels and facilitates live sound journeys\, group gong washes\, and private therapy sessions. He is a multifaceted and talented artist\, a painter of visionary art and a musician with over 15 years of experience. Native to the Philippines\, Jay came to America to master a variety of healing arts such as: Sound healing vibration therapy\, energy healing\, crystal therapy\, aromatherapy\, qi gong\, ta chi\, and is a Reiki Master Teacher. His passion working with music and sound healing therapy have led him to work with numerous cultural and wellness centers\, yoga studios and holistic healing spaces throughout the Chicagoland and Midwest area. \n💖 This is more than a meditation—it’s a full-body vibrational reset. Whether you’re seeking stress relief\, emotional release\, or a profound healing experience\, this journey will leave you feeling lighter\, calmer\, and deeply rejuvenated. \n📍 Location: OsteoStrong Wilmette – 126 Skokie Rd\, Wilmette\, IL 60091
URL:https://www.harmonicwaveshealing.com/classes/harmonic-synergy-biocharged-gong-wash-sound-healing/
LOCATION:Osteostrong Wilmette\, Osteostrong Wilmette
ATTACH;FMTTYPE=image/jpeg:https://www.harmonicwaveshealing.com/wp-content/uploads/2025/05/20347_image_497394617_1170048451590831_3498758730894652750_n.jpg
ORGANIZER;CN="Harmonic%20Waves%20Healing":MAILTO:noreply@facebookmail_com
END:VEVENT
END:VCALENDAR